Workbook

Sheet Monthly
A1: Eesti gaasibilanss, MWh | B1: 42370 | C1: 42401 | D1: 42430 | E1: 42461 | F1: 42491 | G1: 42522 | H1: 42552 | I1: 42583 | J1: 42614 | K1: 42644 | L1: 42675 | M1: 42705 | N1: 42736 | O1: 42767 | P1: 42795 | Q1: 42826 | R1: 42856 | S1: 42887 | T1: 42917 | U1: 42948 | V1: 42979 | W1: 43009 | X1: 43040 | Y1: 43070 | Z1: 43101 | AA1: 43132 | AB1: 43160 | AC1: 43191 | AD1: 43221 | AE1: 43252 | AF1: 43282 | AG1: 43313 | AH1: 43344 | AI1: 43374 | AJ1: 43405 | AK1: 43435 | AL1: 43466 | AM1: 43497 | AN1: 43525 | AO1: 43556 | AP1: 43586 | AQ1: 43617 | AR1: 43647 | AS1: 43678 | AT1: 43709 | AU1: 43739 | AV1: 43770 | AW1: 43800 | AX1: 43831 | AY1: 43862 | AZ1: 43891 | BA1: 43922 | BB1: 43952 | BC1: 43983 | BD1: 44013 | BE1: 44044 | BF1: 44075 | BG1: 44105 | BH1: 44136 | BI1: 44166 | BJ1: 44197 | BK1: 44228 | BL1: 44256 | BM1: 44287 | BN1: 44317 | BO1: 44348 | BP1: 44378 | BQ1: 44409 | BR1: 44440 | BS1: 44470 | BT1: 44501 | BU1: 44531 | BV1: 44562 | BW1: 44593 | BX1: 44621 | BY1: 44652 | BZ1: 44682 | CA1: 44713 | CB1: 44743 | CC1: 44774 | CD1: 44805 | CE1: 44835 | CF1: 44866 | CG1: 44896 | CH1: 44927 | CI1: 44958 | CJ1: 44986 | CK1: 45017 | CL1: 45047 | CM1: 45078 | CN1: 45108 | CO1: 45139 | CP1: 45170 | CQ1: 45200 | CR1: 45231 | CS1: 45261 | CT1: 45292 | CU1: 45323 | CV1: 45352 | CW1: 45383 | CX1: 45413 | CY1: 45444 | CZ1: 45474 | DA1: 45505 | DB1: 45536 | DC1: 45566 | DD1: 45597 | DE1: 45627 | DF1: 45658 | DG1: 45689 | DH1: 45717 | DI1: 45748 | DJ1: 45778 | DK1: 45809 | DL1: 45839 | DM1: 45870 | DN1: 45901 | DO1: 45931 | DP1: 45962 | DQ1: 45992 | DR1: 46023 | DS1: 46054 | DT1: 46082 | DU1: 46113 | DV1: 46143 | DW1: 46174 | DX1: 46204 | DY1: 46235 | DZ1: 46266
A2: 1. Ülekandevõrku sisenenud gaas kokku | B2: =SUM(B3:B6) -> 1044919.7 | C2: =SUM(C3:C6) -> 653357.21 | D2: =SUM(D3:D6) -> 631309.77 | E2: =SUM(E3:E6) -> 434614.88 | F2: =SUM(F3:F6) -> 235808.01 | G2: =SUM(G3:G6) -> 193180.05 | H2: =SUM(H3:H6) -> 177085.93 | I2: =SUM(I3:I6) -> 182312.63 | ... BK2: =SUM(BK3:BK6) -> 1565574.5 | BL2: =SUM(BL3:BL7) -> 1401411.2 | BM2: =SUM(BM3:BM7) -> 1304947.3 | BN2: =SUM(BN3:BN7) -> 427123.19 | BO2: =SUM(BO3:BO7) -> 477910.11 | BP2: =SUM(BP3:BP7) -> 321991.37 | BQ2: =SUM(BQ3:BQ7) -> 608139.4 | BR2: =SUM(BR3:BR7) -> 627177.59 | BS2: =SUM(BS3:BS7) -> 670588.58 | ... DZ2: =SUM(DZ3:DZ7) -> 544753.06
A3: 1.1 Karksi GMJ | B3: 1044688.6 | C3: 653204.37 | D3: 631157.71 | E3: 434519.79 | F3: 235787.56 | G3: 36000.546 | H3: 128595.11 | I3: 62773.534 | J3: 52278.085 | K3: 85559.992 | L3: 72474.715 | M3: 46139.95 | N3: 8968.9098 | O3: 61312.172 | P3: 190573.95 | Q3: 47.209 | R3: 168116.43 | S3: 161181.65 | T3: 182138.91 | U3: 203770.11 | V3: 0 | W3: 12638.625 | X3: 214414.59 | Y3: 363171.54 | Z3: 205283.33 | AA3: 288858.89 | AB3: 244324.46 | AC3: 157694.55 | AD3: 11362.688 | AE3: 3585.984 | AF3: 949.76 | AG3: 0 | AH3: 0 | AI3: 4206.852 | AJ3: 85839.556 | AK3: 121553.92 | AL3: 317483.83 | AM3: 327403.88 | AN3: 510235.01 | AO3: 94899.372 | AP3: 0 | AQ3: 513.209 | AR3: 672.833 | AS3: 30324.659 | AT3: 2228.029 | AU3: 273191.95 | AV3: 421354.84 | AW3: 471574.79 | AX3: 1454942.5 | AY3: 1227913.6 | AZ3: 926437.34 | BA3: 982831.01 | BB3: 20052.77 | BC3: 717109.95 | BD3: 566586.42 | BE3: 114518.73 | BF3: 732080.31 | BG3: 1025828 | BH3: 1023030.4 | BI3: 1309325 | BJ3: 1603502.4 | BK3: 1464036.9 | BL3: 1378568 | BM3: 1169304.8 | BN3: 337602.58 | BO3: 454697.98 | BP3: 6126.216 | BQ3: 571395.83 | BR3: 601978.8 | BS3: 649814.33 | BT3: 1156906.1 | BU3: 1131635.8 | BV3: 1691168.5 | BW3: 1207352.3 | BX3: 18194.95 | BY3: 713904.47 | BZ3: 366953.12 | CA3: 966941.38 | CB3: 850637.27 | CC3: 857408.72 | CD3: 808587.25 | CE3: 678807.76 | CF3: 968175.55 | CG3: 1384003 | CH3: 1303764.6 | CI3: 1613120.7 | CJ3: 1369905.9 | CK3: 79621.986 | CL3: 25778.021 | CM3: 0 | CN3: 20066.245 | CO3: 24264.19 | CP3: 59462.254 | CQ3: 274165.88 | CR3: 401471.37 | CS3: 551072.55 | CT3: 743407.06 | CU3: 472908.28 | CV3: 379263.29 | CW3: 211492.24 | CX3: 0 | CY3: 31469.665 | CZ3: 0 | DA3: 0 | DB3: 210420.45 | DC3: 180657.37 | DD3: 522838.25 | DE3: 1191626.5 | DF3: 1692098.2 | DG3: 1406222.4 | DH3: 1332893 | DI3: 819684.23 | DJ3: 117613.45 | DK3: 101011.7 | DL3: 0 | DM3: 890069.62 | DN3: 719679.25 | DO3: 16360.328 | DP3: 650136.31 | DQ3: 762720.56 | DR3: 2701644.2 | DS3: 2105409.9 | DT3: 191211.54 | DU3: 499020.64 | DV3: 379687.44 | DW3: 620194.92 | DX3: 0 | DY3: 476888.36 | DZ3: 544736.03
A4: Värska GMJ | B4: 0 | C4: 0 | D4: 0 | E4: 0 | F4: 0 | G4: 157166.61 | H4: 48482.92 | I4: 119527.85 | J4: 157543.19 | K4: 405051.38 | L4: 552193.96 | M4: 605220.6 | N4: 736933.53 | O4: 618356.32 | P4: 417067.87 | Q4: 455465.38 | R4: 134944.91 | S4: 23969.624 | T4: 10890.787 | U4: 443.062 | V4: 250223.27 | W4: 452009.83 | X4: 317857.71 | Y4: 248194.38 | Z4: 504174.41 | AA4: 492087.56 | AB4: 522371.98 | AC4: 235958.95 | AD4: 152529.15 | AE4: 86200.233 | AF4: 178838.45 | AG4: 149335.61 | AH4: 17002.367 | AI4: 398244.68 | AJ4: 410356.13 | AK4: 566794.03 | AL4: 472120.45 | AM4: 239211.15 | AN4: 52968.925 | AO4: 261634.8 | AP4: 275538.55 | AQ4: 170119.68 | AR4: 183390.43 | AS4: 174181.57 | AT4: 248632.08 | AU4: 111206.38 | AV4: 57891.889 | AW4: 110501.41 | AX4: 1858.051 | AY4: 129947.19 | AZ4: 535614.02 | BA4: 286028.75 | BB4: 550799.62 | BC4: 147239.67 | BD4: 189172.84 | BE4: 121853.48 | BF4: 183064.43 | BG4: 220426.39 | BH4: 256001.33 | BI4: 254212.94 | BJ4: 36582.09 | BK4: 101340.45 | BL4: 16175.353 | BM4: 129548.87 | BN4: 89465.29 | BO4: 23201.744 | BP4: 315857.31 | BQ4: 36728.307 | BR4: 25138.488 | BS4: 20677.826 | BT4: -4338.29 | BU4: -14007.873 | BV4: 0 | BW4: 26007.269 | BX4: 374702.86 | BY4: 0 | BZ4: 0 | CA4: 0 | CB4: 0 | CC4: 0 | CD4: 0 | CE4: 0 | CF4: 0 | CG4: 0 | CH4: 0 | CI4: 0 | CJ4: 0 | CK4: 0 | CL4: 0 | CM4: 0 | CN4: 0 | CO4: 0 | CP4: 0 | CQ4: 0 | CR4: 0 | CS4: 0 | CT4: 0 | CU4: 0 | CV4: 0 | CW4: 0 | CX4: 0 | CY4: 0 | CZ4: 0 | DA4: 0 | DB4: 0 | DC4: 0 | DD4: 0 | DE4: 0 | DF4: 0 | DG4: 0 | DH4: 0 | DI4: 0 | DJ4: 0 | DK4: 0 | DL4: 0 | DM4: 0 | DN4: 0 | DO4: 0 | DP4: 0 | DQ4: 0 | DR4: 0 | DS4: 0 | DT4: 0 | DU4: 0 | DV4: 0 | DW4: 0
A5: Narva GMJ | B5: 0 | C5: 0 | D5: 0 | E5: 0 | F5: 0 | G5: 0 | H5: 0 | I5: 0 | J5: 0 | K5: 0 | L5: 0 | M5: 0 | N5: 0 | O5: 0 | P5: 0 | Q5: 0 | R5: 0 | S5: 0 | T5: 0 | U5: 0 | V5: 0 | W5: 0 | X5: 0 | Y5: 0 | Z5: 0 | AA5: 0 | AB5: 0 | AC5: 0 | AD5: 55141.327 | AE5: 97919.143 | AF5: 20278.416 | AG5: 29978.457 | AH5: 199078.92 | AI5: 0 | AJ5: 0 | AK5: 0 | AL5: 0 | AM5: 0 | AN5: 0 | AO5: 0 | AP5: 0 | AQ5: 0 | AR5: 0 | AS5: 0 | AT5: 0 | AU5: 0 | AV5: 0 | AW5: 0 | AX5: 0 | AY5: 0 | AZ5: 0 | BA5: 0 | BB5: 0 | BC5: 0 | BD5: 0 | BE5: 0 | BF5: 0 | BG5: 0 | BH5: 0 | BI5: 0 | BJ5: 0 | BK5: 0 | BL5: 0 | BM5: 0 | BN5: 0 | BO5: 0 | BP5: 0 | BQ5: 0 | BR5: 0 | BS5: 0 | BT5: 0 | BU5: 0 | BV5: 0 | BW5: 0 | BX5: 0 | BY5: 0 | BZ5: 0 | CA5: 0 | CB5: 0 | CC5: 0 | CD5: 0 | CE5: 0 | CF5: 0 | CG5: 0 | CH5: 0 | CI5: 0 | CJ5: 0 | CK5: 0 | CL5: 0 | CM5: 0 | CN5: 0 | CO5: 0 | CP5: 0 | CQ5: 0 | CR5: 0 | CS5: 0 | CT5: 0 | CU5: 0 | CV5: 0 | CW5: 0 | CX5: 0 | CY5: 0 | CZ5: 0 | DA5: 0 | DB5: 0 | DC5: 0 | DD5: 0 | DE5: 0 | DF5: 0 | DG5: 0 | DH5: 0 | DI5: 0 | DJ5: 0 | DK5: 0 | DL5: 0 | DM5: 0 | DN5: 0 | DO5: 0 | DP5: 0 | DQ5: 0 | DR5: 0 | DS5: 0 | DT5: 0 | DU5: 0 | DV5: 0 | DW5: 0
A6: 1.2. Misso GMJ | B6: 231.11616 | C6: 152.83785 | D6: 152.06058 | E6: 95.09643 | F6: 20.45088 | G6: 12.88803 | H6: 7.90636 | I6: 11.24528 | J6: 31.55102 | K6: 116.45781 | L6: 150.56124 | M6: 160.56792 | N6: 185.87328 | O6: 160.63337 | P6: 136.5798 | Q6: 110.26 | R6: 51.379 | S6: 17.924 | T6: 12.946 | U6: 12.74254 | V6: 35.873 | W6: 102.70655 | X6: 129.97069 | Y6: 161.60708 | Z6: 180.40932 | AA6: 187.40164 | AB6: 174.825 | AC6: 89.512 | AD6: 14.682 | AE6: 9.015 | AF6: 8.92 | AG6: 7.602 | AH6: 26.727 | AI6: 88.07 | AJ6: 123.403 | AK6: 176.293 | AL6: 203.171 | AM6: 145.601 | AN6: 139.732 | AO6: 76.93 | AP6: 38.29 | AQ6: 7.549 | AR6: 11.142 | AS6: 9.647 | AT6: 42.075 | AU6: 98.89 | AV6: 133.404 | AW6: 154.744 | AX6: 147.013 | AY6: 141.838 | AZ6: 135.761 | BA6: 109.998 | BB6: 59.077 | BC6: 12.168 | BD6: 10.18 | BE6: 11.662 | BF6: 36.782 | BG6: 83.974 | BH6: 127.378 | BI6: 171.099 | BJ6: 197.05 | BK6: 197.123 | BL6: 162.562 | BM6: 104.093 | BN6: 55.325 | BO6: 10.38 | BP6: 7.84 | BQ6: 15.255 | BR6: 60.304 | BS6: 96.419 | BT6: 123.647 | BU6: 205.376 | BV6: 188.244 | BW6: 157.868 | BX6: 139.135 | BY6: 104.254 | BZ6: 52.28 | CA6: 14.618 | CB6: 8.01 | CC6: 7.529 | CD6: 39.501 | CE6: 75.214 | CF6: 115.991 | CG6: 167.91 | CH6: 160.63 | CI6: 139.026 | CJ6: 132.872 | CK6: 74.943 | CL6: 30.107 | CM6: 9.534 | CN6: 6.709 | CO6: 5.53 | CP6: 8.886 | CQ6: 68.586 | CR6: 112.896 | CS6: 160.269 | CT6: 192.716 | CU6: 129.746 | CV6: 101.521 | CW6: 71.908 | CX6: 27.02 | CY6: 4.802 | CZ6: 4.46 | DA6: 4.636 | DB6: 7.422 | DC6: 60.034 | DD6: 89.617 | DE6: 130.596 | DF6: 127.519 | DG6: 132.369 | DH6: 101.962 | DI6: 64.682 | DJ6: 49.012 | DK6: 10.115 | DL6: 5.185 | DM6: 6.555 | DN6: 13.387 | DO6: 82.346 | DP6: 97.605 | DQ6: 121.659 | DR6: 193.257 | DS6: 174.709 | DT6: 85.122 | DU6: 67.097 | DV6: 30.743 | DW6: 8.489 | DX6: 4.957 | DY6: 6.695 | DZ6: 17.027
A7: 1.3. Balticconnector | BG7: 0 | BH7: 0 | BI7: 0 | BJ7: 0 | BK7: 0 | BL7: 6505.325 | BM7: 5989.49 | BN7: 0 | BO7: 0 | BP7: 0 | BQ7: 0 | BR7: 0 | BS7: 0 | BT7: 0 | BU7: 55531.478 | BV7: 0 | BW7: 33894.795 | BX7: 346776.3 | BY7: 0 | BZ7: 219626.86 | CA7: 0 | CB7: 0 | CC7: 0 | CD7: 0 | CE7: 0 | CF7: 0 | CG7: 0 | CH7: 0 | CI7: 0 | CJ7: 55037.297 | CK7: 827554.91 | CL7: 941696.94 | CM7: 903614.84 | CN7: 101708.27 | CO7: 993957.78 | CP7: 990033.27 | CQ7: 266510.61 | CR7: 0 | CS7: 0 | CT7: 0 | CU7: 0 | CV7: 0 | CW7: 598072.89 | CX7: 1902546.7 | CY7: 1632369.4 | CZ7: 156669.93 | DA7: 1558477.6 | DB7: 564898.56 | DC7: 271572.04 | DD7: 75421.41 | DE7: 33406.628 | DF7: 0 | DG7: 36805.956 | DH7: 0 | DI7: 148954.94 | DJ7: 890498.5 | DK7: 42820.98 | DL7: 1550204.1 | DM7: 7729.079 | DN7: 0 | DO7: 591537.33 | DP7: 304619.95 | DQ7: 0 | DR7: 0 | DS7: 29951.7 | DT7: 280670.47 | DU7: 684870.28 | DV7: 843939.59 | DW7: 151044.37 | DX7: 114637.48 | DY7: 280242.18 | DZ7: 0
A8: 2. Ülekandevõrgust väljunud gaas kokku | B8: =B9+B23 -> 1292668.8 | C8: =C9+C23 -> 1448544.2 | D8: =D9+D23 -> 1508095.2 | E8: =E9+E23 -> 1033024.8 | F8: =F9+F23 -> 663196.58 | G8: =G9+G23 -> 2440193.9 | H8: =H9+H23 -> 4142387.2 | I8: =I9+I23 -> 4768312.7 | ... AW8: =AW9+AW23 -> 834246.98 | AX8: =AX9+AX10 -> 1449890.5 | AY8: =AY9+AY10 -> 1366137.7 | AZ8: =AZ9+AZ10 -> 1453026.4 | BA8: =BA9+BA10 -> 1272534.4 | BB8: =BB9+BB10 -> 573270.16 | BC8: =BC9+BC10 -> 874146.54 | BD8: =BD9+BD10 -> 756130.48 | BE8: =BE9+BE10 -> 227654.29 | ... DZ8: =DZ9+DZ10 -> 549846.27
A9: 2.1. Sisemaine ülekandeteenus | B9: 1044423 | C9: 645003.41 | D9: 630610.48 | E9: 427319.53 | F9: 234440.47 | G9: 192565.62 | H9: 179200.43 | I9: 181886.8 | J9: 209137.79 | K9: 481991.17 | L9: 620401.14 | M9: 649718.76 | N9: 747311.94 | O9: 681210.23 | P9: 608286.07 | Q9: 457469.43 | R9: 299221.62 | S9: 186222.88 | T9: 195177.88 | U9: 204212.53 | V9: 250200.34 | W9: 447212.51 | X9: 531431.37 | Y9: 611013.82 | Z9: 707661.3 | AA9: 784741.26 | AB9: 764138.75 | AC9: 395545.37 | AD9: 219652.92 | AE9: 188615.09 | AF9: 188643.76 | AG9: 188111.96 | AH9: 212120.17 | AI9: 390450.49 | AJ9: 496637.97 | AK9: 680084.13 | AL9: 787413.81 | AM9: 567216.82 | AN9: 562412.09 | AO9: 354843.71 | AP9: 274263.87 | AQ9: 173461.97 | AR9: 190935.65 | AS9: 204047.87 | AT9: 242911.47 | AU9: 369697.61 | AV9: 477262.67 | AW9: 568754.58 | AX9: 565372.98 | AY9: 537436.64 | AZ9: 527910.28 | BA9: 398627.19 | BB9: 280344.25 | BC9: 186908.84 | BD9: 183337.95 | BE9: 194924.85 | BF9: 239031.06 | BG9: 316319.96 | BH9: 432835.81 | BI9: 617081.03 | BJ9: 702299.2 | BK9: 752650.41 | BL9: 577972.07 | BM9: 392019.07 | BN9: 280483.78 | BO9: 173388.66 | BP9: 167281.66 | BQ9: 210411.52 | BR9: 272680.81 | BS9: 324423.14 | BT9: 453147.6 | BU9: 767805.22 | BV9: 652126.61 | BW9: 519448.57 | BX9: 491915.54 | BY9: 332343.21 | BZ9: 221088.6 | CA9: 150309.2 | CB9: 133336.1 | CC9: 138284.79 | CD9: 161208.19 | CE9: 201516.27 | CF9: 320182.87 | CG9: 455009.38 | CH9: 421698.48 | CI9: 370426.97 | CJ9: 410481.01 | CK9: 255260.33 | CL9: 182674.06 | CM9: 132194.97 | CN9: 128210.6 | CO9: 138273.33 | CP9: 131726.97 | CQ9: 317591.52 | CR9: 398855.86 | CS9: 547892.36 | CT9: 737482.9 | CU9: 473272.64 | CV9: 375509.91 | CW9: 344558.48 | CX9: 170701.63 | CY9: 127559.58 | CZ9: 122897.73 | DA9: 127773.69 | DB9: 132709.11 | DC9: 254336.23 | DD9: 369676.52 | DE9: 484250.69 | DF9: 453155.9 | DG9: 476767.42 | DH9: 340626 | DI9: 256324.36 | DJ9: 201082.59 | DK9: 133853.2 | DL9: 121689.93 | DM9: 149147.05 | DN9: 153068.59 | DO9: 263267.45 | DP9: 360784.23 | DQ9: 440368.99 | DR9: 753635.44 | DS9: 664909.58 | DT9: 343469.97 | DU9: 267482.32 | DV9: 158685.55 | DW9: 115250.17 | DX9: 110412.04 | DY9: 121072.74 | DZ9: 136340.6
A10: 2.2. Eksport | AM10: =SUM(AM11:AM12) -> 0 | AN10: =SUM(AN11:AN12) -> 0 | AO10: =SUM(AO11:AO12) -> 0 | AP10: =SUM(AP11:AP12) -> 0 | AQ10: =SUM(AQ11:AQ12) -> 0 | AR10: =SUM(AR11:AR12) -> 0 | AS10: =SUM(AS11:AS12) -> 0 | AT10: =SUM(AT11:AT12) -> 0 | ... DZ10: =SUM(DZ11:DZ12) -> 413505.67
A11: 2.2.1. Karksi | AM11: 0 | AN11: 0 | AO11: 0 | AP11: 0 | AQ11: 0 | AR11: 0 | AS11: 0 | AT11: 0 | AU11: 0 | AV11: 0 | AW11: 0 | AX11: 0 | AY11: 0 | AZ11: 0 | BA11: 0 | BB11: 10459.388 | BC11: 0 | BD11: 0 | BE11: 0 | BF11: 0 | BG11: 0 | BH11: 0 | BI11: 0 | BJ11: 0 | BK11: 0 | BL11: 3110.292 | BM11: 0 | BN11: 0 | BO11: 0 | BP11: 0 | BQ11: 0 | BR11: 0 | BS11: 0 | BT11: 0 | BU11: 0 | BV11: 0 | BW11: 13303.417 | BX11: 249097.86 | BY11: 0 | BZ11: 62498.686 | CA11: 0 | CB11: 0 | CC11: 0 | CD11: 0 | CE11: 0 | CF11: 0 | CG11: 0 | CH11: 0 | CI11: 0 | CJ11: 36705.268 | CK11: 589683.52 | CL11: 765570.23 | CM11: 765473.51 | CN11: 0 | CO11: 849829.79 | CP11: 851756.53 | CQ11: 216099.67 | CR11: 0 | CS11: 0 | CT11: 0 | CU11: 0 | CV11: 0 | CW11: 466643.62 | CX11: 1719050 | CY11: 1517314.2 | CZ11: 17602.896 | DA11: 1411562.3 | DB11: 452098.01 | DC11: 130860.3 | DD11: 3694.921 | DE11: 4458.989 | DF11: 0 | DG11: 0 | DH11: 0 | DI11: 51072.793 | DJ11: 699247.53 | DK11: 9207.5 | DL11: 1421684.3 | DM11: 4661.668 | DN11: 93.239 | DO11: 325089.81 | DP11: 165245.22 | DQ11: 0 | DR11: 0 | DS11: 0 | DT11: 100008.13 | DU11: 564254.57 | DV11: 753349.26 | DW11: 121167.7 | DX11: 852.34 | DY11: 216189.05 | DZ11: 0
A12: 2.2.2. Balticconnector | AM12: 0 | AN12: 0 | AO12: 0 | AP12: 0 | AQ12: 0 | AR12: 0 | AS12: 0 | AT12: 0 | AU12: 0 | AV12: 0 | AW12: 0 | AX12: 884517.55 | AY12: 828701.09 | AZ12: 925116.1 | BA12: 873907.19 | BB12: 282466.52 | BC12: 687237.7 | BD12: 572792.53 | BE12: 32729.437 | BF12: 675937.73 | BG12: 930934.69 | BH12: 844673.44 | BI12: 931746.43 | BJ12: 941220.66 | BK12: 807849.04 | BL12: 833753.53 | BM12: 886841.25 | BN12: 153639.87 | BO12: 300103.7 | BP12: 158688.58 | BQ12: 396142.67 | BR12: 353599.55 | BS12: 345501.82 | BT12: 693609.3 | BU12: 402883.56 | BV12: 1047972.9 | BW12: 723250.52 | BX12: 8574.368 | BY12: 380495.67 | BZ12: 295858.55 | CA12: 807332.45 | CB12: 727541.72 | CC12: 720948.28 | CD12: 639390.53 | CE12: 477832.34 | CF12: 644402.26 | CG12: 923160.64 | CH12: 880333.77 | CI12: 1235508.6 | CJ12: 984113.99 | CK12: 62594.455 | CL12: 22227.982 | CM12: 0 | CN12: 0 | CO12: 20383.109 | CP12: 57063.781 | CQ12: 0 | CR12: 0 | CS12: 0 | CT12: 0 | CU12: 0 | CV12: 0 | CW12: 0 | CX12: 0 | CY12: 30307.925 | CZ12: 518.024 | DA12: 0 | DB12: 181871.52 | DC12: 74459.398 | DD12: 216676.6 | DE12: 736594.31 | DF12: 1234044.5 | DG12: 959665.76 | DH12: 988487.41 | DI12: 659822.57 | DJ12: 106375.79 | DK12: 0 | DL12: 0 | DM12: 746393.75 | DN12: 569918.35 | DO12: 13317.748 | DP12: 425546 | DQ12: 318447.15 | DR12: 1936484.9 | DS12: 1455407 | DT12: 38750.668 | DU12: 360418 | DV12: 302061.55 | DW12: 534455.33 | DX12: 1.176 | DY12: 419523.24 | DZ12: 413505.67
A13: 3. Kogukaod ülekandevõrgus | B13: =SUM(B14:B15) -> 2738.1024 | C13: =SUM(C14:C15) -> 1665.4863 | D13: =SUM(D14:D15) -> 1549.77 | E13: =SUM(E14:E15) -> 841.96827 | F13: =SUM(F14:F15) -> 958.01432 | G13: =SUM(G14:G15) -> 1223.2721 | H13: =SUM(H14:H15) -> 1321.7574 | I13: =SUM(I14:I15) -> 1311.0297 | ... DZ13: =SUM(DZ14:DZ15) -> 3940.345
A14: 3.1. Võrgust väljastatud tööde käigus | B14: 0 | C14: 0 | D14: 0 | E14: 0 | F14: 0 | G14: 202.43844 | H14: 315.75761 | I14: 113.61719 | J14: 0 | K14: 0 | L14: 1347.4781 | M14: 0 | N14: 0 | O14: 0 | P14: 0 | Q14: 47.6805 | R14: 551.49077 | S14: 379.008 | T14: 518.45346 | U14: 221.54 | V14: 0 | W14: 945.8598 | X14: 0 | Y14: 0 | Z14: 0 | AA14: 0 | AB14: 0 | AC14: 0 | AD14: 2473.4448 | AE14: 764.8352 | AF14: 3690.2294 | AG14: 1914.9674 | AH14: 0 | AI14: 0 | AJ14: 0 | AK14: 0 | AL14: 0 | AM14: 0 | AN14: 0 | AO14: 473.40144 | AP14: 4917.469 | AQ14: 1352.7994 | AR14: 718.38297 | AS14: 1803.6475 | AT14: 2230.8864 | AU14: 2346.6776 | AV14: 447.15276 | AW14: 3.6015 | AX14: 0 | AY14: 0 | AZ14: 0 | BA14: 0 | BB14: 0 | BC14: 0 | BD14: 537.8179 | BE14: 8.08605 | BF14: 0 | BG14: 0 | BH14: 9.39457 | BI14: 89.38839 | BJ14: 0 | BK14: 49.0914 | BL14: 163.96448 | BM14: 46.73808 | BN14: 50.94702 | BO14: 2037.5593 | BP14: 5019.7641 | BQ14: 775.07008 | BR14: 0 | BS14: 333.27615 | BT14: 0 | BU14: 0 | BV14: 0 | BW14: 263.92456 | BX14: 0 | BY14: 0 | BZ14: 1266.3539 | CA14: 405.84192 | CB14: 0 | CC14: 1092.4987 | CD14: 3.816 | CE14: 0 | CF14: 0 | CG14: 0 | CH14: 0 | CI14: 0 | CJ14: 53.2004 | CK14: 0 | CL14: 2.10816 | CM14: 768.67301 | CN14: 581.70454 | CO14: 2398.979 | CP14: 2955.784 | CQ14: 135.325 | CR14: 0 | CS14: 0 | CT14: 0 | CU14: 0 | CV14: 73.043 | CW14: 0 | CX14: 1653.427 | CY14: 72.4382 | CZ14: 3470.737 | DA14: 52.1623 | DB14: 0 | DC14: 50.722 | DD14: 57.593 | DE14: 0 | DF14: 0 | DG14: 0 | DH14: 0 | DI14: 893.648 | DJ14: 679.366 | DK14: 4180.321 | DL14: 1092.351 | DM14: 0.578 | DN14: 0 | DO14: 94.933 | DP14: 0 | DQ14: 0 | DR14: 0 | DS14: 0 | DT14: 0 | DU14: 0 | DV14: 180.767 | DW14: 488.313 | DX14: 1994.698 | DY14: 1209.237 | DZ14: 1117.904
A15: 3.2. Muud kaod | B15: 2738.1024 | C15: 1665.4863 | D15: 1549.77 | E15: 841.96827 | F15: 958.01432 | G15: 1020.8336 | H15: 1005.9997 | I15: 1197.4125 | J15: 619.78521 | K15: 930.97146 | L15: 63.84784 | M15: 2292.2809 | N15: 1755.7563 | O15: 1473.9289 | P15: 692.74911 | Q15: 843.255 | R15: 875.53736 | S15: 761.8905 | T15: 1914.1568 | U15: 820.8057 | V15: 1187.3316 | W15: 2366.9634 | X15: 1542.1368 | Y15: 1603.4295 | Z15: 2892.763 | AA15: 1830.5679 | AB15: 1271.8318 | AC15: 1694.2794 | AD15: 1113.9062 | AE15: 1247.6897 | AF15: -616.4873 | AG15: -1518.4249 | AH15: -252.40032 | AI15: 826.88772 | AJ15: 1968.8818 | AK15: 1921.7188 | AL15: 2414.4158 | AM15: 3073.9035 | AN15: 2546.707 | AO15: 477.224 | AP15: 351.49655 | AQ15: 562.90194 | AR15: 173.12734 | AS15: -128.45221 | AT15: 265.164 | AU15: 259.469 | AV15: 1390.1345 | AW15: 1232.594 | AX15: 686.83953 | AY15: 146.8947 | AZ15: -1815.8268 | BA15: 191.8635 | BB15: 1940.7285 | BC15: -171.7865 | BD15: 561.31587 | BE15: 4521.3522 | BF15: -831.79462 | BG15: 76.55425 | BH15: 833.13006 | BI15: 1.20299 | BJ15: 2035.804 | BK15: 2807.4657 | BL15: 791.73841 | BM15: -201.4474 | BN15: 1390.8341 | BO15: 1920.4478 | BP15: 1662.5119 | BQ15: -402.82519 | BR15: 877.25047 | BS15: 249.8879 | BT15: 805.30369 | BU15: 1869.3228 | BV15: 1016.7043 | BW15: 1483.3843 | BX15: 2353.8227 | BY15: 1389.9631 | BZ15: 756.86168 | CA15: 1230.732 | CB15: 1760.6616 | CC15: 616.16572 | CD15: 910.44805 | CE15: 2201.7514 | CF15: 2503.4935 | CG15: 3636.1973 | CH15: 2653.3033 | CI15: 2221.5367 | CJ15: 1708.0666 | CK15: 2185.4295 | CL15: 2627.1224 | CM15: 2374.2312 | CN15: 2774.685 | CO15: -468.13789 | CP15: -534.63745 | CQ15: 2545.3251 | CR15: 5407.91 | CS15: 1861.6486 | CT15: 2416.8531 | CU15: 2076.8302 | CV15: 1645.9219 | CW15: -3539.7852 | CX15: 8314.766 | CY15: 2711.9615 | CZ15: 3527.9352 | DA15: 12653.501 | DB15: 10731.361 | DC15: 771.33144 | DD15: -341.70484 | DE15: 2027.4775 | DF15: 5090.5665 | DG15: 4484.9093 | DH15: 4297.1428 | DI15: 4947.6771 | DJ15: -239.02312 | DK15: -216.73458 | DL15: -1067.3019 | DM15: 84.38207 | DN15: 4485.9511 | DO15: -1845.1677 | DP15: 2377.9457 | DQ15: 3152.2696 | DR15: 7420.8995 | DS15: 4449.8757 | DT15: 3408.9341 | DU15: 267.26616 | DV15: 173.043 | DW15: 2042.254 | DX15: 3659.066 | DY15: -1142.276 | DZ15: 2822.441
A16: Mahuvaru perioodi lõpus | B16: 39410.353 | C16: 46061.341 | D16: 45167.206 | E16: 51577.739 | F16: 51938.279 | G16: 51675.033 | H16: 48141.193 | I16: 46891.63 | J16: 47076.292 | K16: 54702.807 | L16: 57657.341 | M16: 57222.539 | N16: 54297.813 | O16: 51494.592 | P16: 50294.169 | Q16: 47561.241 | R16: 49984.892 | S16: 47756.257 | T16: 43123.49 | U16: 42203.663 | V16: 41265.499 | W16: 55507.982 | X16: 54946.675 | Y16: 53901.019 | Z16: 53293.829 | AA16: 48082.929 | AB16: 49467.78 | AC16: 45231.54 | AD16: 41023.896 | AE16: 38005.019 | AF16: 46408.941 | AG16: 33900.925 | AH16: 37589.528 | AI16: 48497.058 | AJ16: 46184.253 | AK16: 57271.225 | AL16: 52186.333 | AM16: 49616.587 | AN16: 47350.505 | AO16: 48642.336 | AP16: 44669.821 | AQ16: 41640.084 | AR16: 33250.189 | AS16: 32738.796 | AT16: 38499.268 | AU16: 49643.4 | AV16: 50649.777 | AW16: 62029.651 | AX16: =6760935*10.46/1000 -> 70719.38 | AY16: =5956408*10.47/1000 -> 62363.592 | AZ16: =6829137*10.44/1000 -> 71296.19 | BA16: =6478660*10.49/1000 -> 67961.143 | BB16: =5989629*10.51/1000 -> 62951.001 | BC16: =5137528*10.56/1000 -> 54252.296 | BD16: =5005188*10.56/1000 -> 52854.785 | BE16: =5935464*10.59/1000 -> 62856.564 | BF16: =5546029*10.56/1000 -> 58566.066 | BG16: =5399412*10.51/1000 -> 56747.82 | BH16: =5585412*10.49/1000 -> 58590.972 | BI16: =6869713*10.5/1000 -> 72131.986 | BJ16: =6378523*10.56/1000 -> 67357.203 | BK16: =6567745*10.53/1000 -> 69158.355 | BL16: =5283868*10.54/1000 -> 55691.969 | BM16: =7594157*10.48/1000 -> 79586.765 | BN16: =6792612*10.48/1000 -> 71186.574 | BO16: =6425518*10.46/1000 -> 67210.918 | BP16: =5950533*10.47/1000 -> 62302.081 | BQ16: =6019812*10.43/1000 -> 62786.639 | BR16: =5773288*10.43/1000 -> 60215.394 | BS16: =5802228*10.46/1000 -> 60691.305 | BT16: =6372383*10.46/1000 -> 66655.126 | BU16: =6356448*10.45/1000 -> 66424.882 | BV16: =5550626*10.47/1000 -> 58115.054 | BW16: =6447109*10.47/1000 -> 67501.231 | BX16: =5422478*10.46/1000 -> 56719.12 | BY16: =5304774*10.54/1000 -> 55912.318 | BZ16: =5790540*10.49/1000 -> 60742.765 | CA16: =6510450*10.57/1000 -> 68815.457 | CB16: =5438623*10.66/1000 -> 57975.721 | CC16: =5114690*10.66/1000 -> 54522.595 | CD16: =5747258*10.65/1000 -> 61208.298 | CE16: =5487036*10.7/1000 -> 58711.285 | CF16: =5521421*10.68/1000 -> 58968.776 | CG16: =5835134*10.59/1000 -> 61794.069 | CH16: =5760110*10.75/1000 -> 61921.183 | CI16: =6266797*10.57/1000 -> 66240.044 | CJ16: =5475889*10.73/1000 -> 58756.289 | CK16: =5258382*10.59/1000 -> 55686.265 | CL16: =4768216*10.8/1000 -> 51496.733 | CM16: =4993574*10.86/1000 -> 54230.214 | CN16: =4124565*10.89/1000 -> 44916.513 | CO16: =4844775*10.79/1000 -> 52275.122 | CP16: =5416849*10.79/1000 -> 58447.801 | CQ16: =5830589*10.57/1000 -> 61629.326 | CR16: =5995998*10.63/1000 -> 63737.459 | CS16: =6130543*10.67/1000 -> 65412.894 | CT16: =6476987*10.68/1000 -> 69174.221 | CU16: =6256126*10.71/1000 -> 67003.109 | CV16: =6460219*10.73/1000 -> 69318.15 | CW16: =5998280*10.84/1000 -> 65021.355 | CX16: =5994096*10.87/1000 -> 65155.824 | CY16: =4610996*10.83/1000 -> 49937.087 | CZ16: =5390125*10.72/1000 -> 57782.14 | DA16: =5938970*10.81/1000 -> 64200.266 | DB16: =5790132*10.94/1000 -> 63344.044 | DC16: =5386026*10.91/1000 -> 58761.544 | DD16: =6129467*10.82/1000 -> 66320.833 | DE16: =5992214 *10.79/1000 -> 64655.989 | DF16: =6083903*10.78/1000 -> 65584.474 | DG16: =6229759 *10.74/1000 -> 66907.612 | DH16: =6046565 *10.72/1000 -> 64819.177 | DI16: =5700412 *10.81/1000 -> 61621.454 | DJ16: =5951014 *10.94/1000 -> 65104.093 | DK16: =5576338 *10.64/1000 -> 59332.236 | DL16: =5954423 *10.79/1000 -> 64248.224 | DM16: =6026679 *10.68/1000 -> 64364.932 | DN16: =5382913*10.59/1000 -> 57005.049 | DO16: =5947135*10.55/1000 -> 62742.274 | DP16: =6116999*10.75/1000 -> 65757.739 | DQ16: =6102175*10.69/1000 -> 65232.251 | DR16: 68754.356 | DS16: 80663.286 | DT16: 66582.198 | DU16: 60448.718 | DV16: 68167.979
A17: 4. Ülekandevõrgu mahuvaru muutus | DR17: =(DR18-65243.229)+(DR19-7577.842) -> 4296.215 | DS17: =(DS18-DR18)+(DS19-DR19) -> 10769.81 | DT17: =(DT18-DS18)+(DT19-DS19) -> -13670.572 | DU17: =(DU18-DT18)+(DU19-DT19) -> -8464.324 | DV17: =(DV18-DU18)+(DV19-DU19) -> 9207.597 | DW17: =(DW18-DV18)+(DW19-DV19) -> -2155.985 | DX17: =(DX18-DW18)+(DX19-DW19) -> -2276.882 | DY17: =(DY18-DX18)+(DY19-DX19) -> 285.242 | DZ17: =(DZ18-DY18)+(DZ19-DY19) -> -9033.555
A18: 4.1. Sisemaise võrgu mahuvaru perioodi lõpus | DR18: 68754.356 | DS18: 80663.286 | DT18: 66582.198 | DU18: 60448.718 | DV18: 68167.979 | DW18: 67691.031 | DX18: 62585.897 | DY18: 62909.838 | DZ18: 56840.154
A19: 4.2. Balticconnectori mahuvaru perioodi lõpus | DR19: 8362.93 | DS19: 7223.81 | DT19: 7634.326 | DU19: 5303.482 | DV19: 6791.818 | DW19: 5112.781 | DX19: 7941.033 | DY19: 7902.334 | DZ19: 4938.463
A20: Mahuvaru muutus | B20: -2241.455 | C20: 6688.3084 | D20: -850.47439 | E20: 6453.3858 | F20: 409.52135 | G20: -608.84227 | H20: -3436.2481 | I20: -885.20215 | J20: 95.259166 | K20: 7805.6826 | L20: 3006.7815 | M20: -489.92376 | N20: -2979.3802 | O20: -2855.0318 | P20: -1200.4231 | Q20: -2780.8725 | R20: 2468.9474 | S20: -2276.2845 | T20: -4496.3206 | U20: -837.45255 | V20: -1099.7087 | W20: 14321.159 | X20: -561.30717 | Y20: -1098.1363 | Z20: -607.19024 | AA20: -5261.7525 | AB20: 1430.6877 | AC20: -4094.6339 | AD20: -4164.3594 | AE20: -3097.4675 | AF20: 8440.256 | AG20: -12463.606 | AH20: 3558.7146 | AI20: 10979.266 | AJ20: -2220.0764 | AK20: 11042.734 | AL20: -1663.2537 | AM20: -2569.7463 | AN20: -2313.4705 | AO20: 1427.376 | AP20: -3832.872 | AQ20: -3158.3453 | AR20: -8509.4351 | AS20: -384.48432 | AT20: 5572.3185 | AU20: 10814.137 | AV20: 1522.0314 | AW20: 11428.204 | AX20: 7386.1093 | AY20: -8281.9582 | AZ20: 10976.562 | BA20: -3756.4893 | BB20: -4299.4195 | BC20: -9612.9686 | BD20: -1460.184 | BE20: 4200.1423 | BF20: 1044.5204 | BG20: -992.89021 | BH20: 807.34187 | BI20: 14791.024 | BJ20: -5274.0758 | BK20: 2218.4604 | BL20: -14247.867 | BM20: 26109.149 | BN20: -8442.2451 | BO20: 459.73792 | BP20: -10661.137 | BQ20: 1212.9569 | BR20: 19.98388 | BS20: 80.45832 | BT20: 5129.2703 | BU20: 806.66685 | BV20: -9759.4849 | BW20: 9662.3861 | BX20: -12128.339 | BY20: -220.11736 | BZ20: 5163.2095 | CA20: 7677.7626 | CB20: -11993.204 | CC20: -3525.4859 | CD20: 7113.774 | CE20: -2667.3923 | CF20: 1202.9098 | CG20: 2364.6935 | CH20: -760.32704 | CI20: 5102.6358 | CJ20: -7985.4292 | CK20: -2471.8966 | CL20: -5596.4443 | CM20: 2812.9793 | CN20: -9785.7636 | CO20: 7810.4278 | CP20: 6535.9778 | CQ20: 4373.2318 | CR20: -2679.5041 | CS20: 1478.8086 | CT20: 3700.0219 | CU20: -2365.7212 | CV20: 2190.2183 | CW20: 1974.7228 | CX20: 2853.875 | CY20: -14122.212 | CZ20: 8657.0668 | DA20: 6440.5969 | DB20: -2083.5558 | DC20: -8188.543 | DD20: 8585.3454 | DE20: -2167.7865 | DF20: -65.2729 | DG20: 2242.5962 | DH20: -415.55008 | DI20: -4357.1975 | DJ20: 1014.7178 | DK20: -3181.4983 | DL20: 6809.9898 | DM20: -2482.1815 | DN20: -7873.485 | DO20: 8055.231 | DP20: 900.47375 | DQ20: 873.81129 | DR20: 4296.215 | DS20: 10769.81 | DT20: -13670.572 | DU20: -8464.324 | DV20: 9207.597 | DW20: 9207.597
A21: 5. Ööpäevane MIN võrku sisenenud gaas | B21: 19432.501 | C21: 16971.705 | D21: 10455.931 | E21: 9417.9888 | F21: 5494.5581 | G21: 5063.8579 | H21: 0.17952 | I21: 0.3168 | J21: 4025.8944 | K21: 7660.3507 | L21: 14646.604 | M21: 14911.734 | N21: 17001.107 | O21: 14993.189 | P21: 13788.444 | Q21: 8598.8029 | R21: 4811.635 | S21: 2394.271 | T21: 3104.079 | U21: 2618.7148 | V21: 4598.7823 | W21: 7966.3343 | X21: 11640.194 | Y21: 16917.54 | Z21: 14921.609 | AA21: 17016.3 | AB21: 16960.306 | AC21: 5106.69 | AD21: 4571.0051 | AE21: 105.709 | AF21: 4518.7151 | AG21: 3009.7625 | AH21: 4104.637 | AI21: 6134.028 | AJ21: 11112.092 | AK21: 16226.966 | AL21: 16310.457 | AM21: 16071.964 | AN21: 11525.386 | AO21: 5457.984 | AP21: 6300.854 | AQ21: 4799.99 | AR21: 4568.063 | AS21: 3902.055 | AT21: 5555.093 | AU21: 6679 | AV21: 9962 | AW21: 3827 | AX21: 41818 | AY21: 39806 | AZ21: 34303 | BA21: 37977 | BB21: 4611 | BC21: 20199.221 | BD21: 18438 | BE21: 2443 | BF21: 4745 | BG21: 2071.2218 | BH21: 9336.3305 | BI21: 9660.2101 | BJ21: 13693 | BK21: 15644 | BL21: 7411 | BM21: 7438 | BN21: 1680 | BO21: 115 | BP21: 1 | BQ21: 2170 | BR21: 4243 | BS21: 11050 | BT21: 25512 | BU21: 11312 | BV21: 34195 | BW21: 5309 | BX21: 8261 | BY21: 13096 | BZ21: 775 | CA21: 21136 | CB21: 18732 | CC21: 19034 | CD21: 19852 | CE21: 15286 | CF21: 19026 | CG21: 21424 | CH21: 20238 | CI21: 36013 | CJ21: 4604 | CK21: 2530 | CL21: 17914 | CM21: 1633 | CN21: 143 | CO21: 10357 | CP21: 15347 | CQ21: 5112 | CR21: 533 | CS21: 10351 | CT21: 12246 | CU21: 10215 | CV21: 7410 | CW21: 4088 | CX21: 29505 | CY21: 1032 | CZ21: 737 | DA21: 16359 | DB21: 5 | DC21: 11 | DD21: 229 | DE21: 1 | DF21: 33346 | DG21: 2432.545 | DH21: 15098 | DI21: 6117 | DJ21: 293 | DK21: 236 | DL21: 32598 | DM21: 8743 | DN21: 12694 | DO21: 2467 | DP21: 10548 | DQ21: 72227 | DR21: 48518 | DS21: 1913 | DT21: 405.898 | DU21: 1358 | DV21: 27839.254 | DW21: 1306.885 | DX21: 440.252 | DY21: 1145.96 | DZ21: 7642.589
A22: 6. Ööpäevane MAX võrku sisenenud gaas | B22: 52498.649 | C22: 27007.073 | D22: 29682.523 | E22: 18408.709 | F22: 10844.106 | G22: 11591.237 | H22: 8914.0867 | I22: 15526.104 | J22: 15608.715 | K22: 20203.17 | L22: 27277.98 | M22: 27800.552 | N22: 41631.706 | O22: 38990.973 | P22: 29922.263 | Q22: 18628.253 | R22: 15173.162 | S22: 11328.698 | T22: 9077.86 | U22: 8517.6939 | V22: 11696.942 | W22: 22997.808 | X22: 22793.335 | Y22: 22525.367 | Z22: 32052.95 | AA22: 48615.653 | AB22: 38586.847 | AC22: 24313.984 | AD22: 13561.787 | AE22: 10456.438 | AF22: 14389.358 | AG22: 8360.598 | AH22: 15001.673 | AI22: 25431.322 | AJ22: 27104.629 | AK22: 30278.246 | AL22: 35490.818 | AM22: 26144.55 | AN22: 26280.185 | AO22: 19868.008 | AP22: 13679.312 | AQ22: 8474.316 | AR22: 6653.888 | AS22: 12480.276 | AT22: 13652.499 | AU22: 18934 | AV22: 24934 | AW22: 31130 | AX22: 51553 | AY22: 54687 | AZ22: 54435 | BA22: 47959 | BB22: 25236 | BC22: 33283.2 | BD22: 28667 | BE22: 17066 | BF22: 12083 | BG22: 31137.439 | BH22: 19538.175 | BI22: 30353.526 | BJ22: 36550 | BK22: 39307 | BL22: 30802 | BM22: 23703 | BN22: 17939 | BO22: 12233 | BP22: 12841 | BQ22: 11434 | BR22: 17888 | BS22: 28586 | BT22: 65009 | BU22: 70327 | BV22: 78905 | BW22: 79941 | BX22: 21492 | BY22: 33251 | BZ22: 36403 | CA22: 41529 | CB22: 32447 | CC22: 34913 | CD22: 33842 | CE22: 27091 | CF22: 54904 | CG22: 67113 | CH22: 80262 | CI22: 80495 | CJ22: 79834 | CK22: 54580 | CL22: 79833 | CM22: 56940 | CN22: 7309 | CO22: 41525 | CP22: 53342 | CQ22: 39938 | CR22: 22696 | CS22: 29055 | CT22: 47414 | CU22: 26918 | CV22: 19101 | CW22: 59914 | CX22: 68723 | CY22: 72681 | CZ22: 13674 | DA22: 73233 | DB22: 54464 | DC22: 31734 | DD22: 42002 | DE22: 74409 | DF22: 84416 | DG22: 81575.815 | DH22: 51599 | DI22: 58268 | DJ22: 48514 | DK22: 6263 | DL22: 75996 | DM22: 82432 | DN22: 31077 | DO22: 56398 | DP22: 78294 | DQ22: 100246 | DR22: 102653 | DS22: 102843 | DT22: 50506.531 | DU22: 67454 | DV22: 66934.853 | DW22: 35383.577 | DX22: 13624.587 | DY22: 13624.587 | DZ22: 27857.006
A23: Transiit | B23: 248245.78 | C23: 803540.81 | D23: 877484.69 | E23: 605705.26 | F23: 428756.11 | G23: 2247628.3 | H23: 3963186.7 | I23: 4586425.9 | J23: 4540064.7 | K23: 632547.02 | L23: 5295.8039 | M23: 0 | N23: 0 | O23: 9612.9416 | P23: 0 | Q23: 0 | R23: 594583.77 | S23: 555865.26 | T23: 1035329.4 | U23: 2294567.1 | V23: 4488644.5 | W23: 3651088.7 | X23: 210387.47 | Y23: 142421.74 | Z23: 210390.88 | AA23: 62640.017 | AB23: 408084.93 | AC23: 5825.6764 | AD23: 54404.009 | AE23: 489335.94 | AF23: 2943467 | AG23: 3800136.8 | AH23: 4191078.4 | AI23: 1987766.7 | AJ23: 596440.84 | AK23: 404938.83 | AL23: 211260.46 | AM23: 803456.47 | AN23: 211488.17 | AO23: 445.45215 | AP23: 2730090.1 | AQ23: 2841333.6 | AR23: 4114744.2 | AS23: 3307597.1 | AT23: 3173471.3 | AU23: 1243345.9 | AV23: 277465.43 | AW23: 265492.41 | AX23: 0 | AY23: 0 | AZ23: 0 | BA23: 0 | BB23: 0 | BC23: 0 | BD23: 0 | BE23: 0 | BF23: 0 | BG23: 0 | BH23: 0 | BI23: 0 | BJ23: 0 | BK23: 0 | BL23: 0 | BM23: 0 | BN23: 0 | BO23: 0 | BP23: 0 | BQ23: 0 | BR23: 0 | BS23: 0 | BT23: 0 | BU23: 0 | BV23: 0 | BW23: 0 | BX23: 0 | BY23: 0 | BZ23: 0 | CA23: 0 | CB23: 0 | CC23: 0 | CD23: 0 | CE23: 0 | CF23: 0 | CG23: 0 | CH23: 0 | CI23: 0 | CJ23: 0 | CK23: 0 | CL23: 0 | CM23: 0 | CN23: 0 | CO23: 0 | CP23: 0 | CQ23: 0 | CR23: 0 | CS23: 0 | CT23: 0 | CU23: 0 | CV23: 0 | CW23: 0 | CX23: 0 | CY23: 0 | CZ23: 0 | DA23: 0 | DB23: 0 | DC23: 0 | DD23: 0 | DE23: 0 | DF23: 0 | DG23: 0 | DH23: 0 | DI23: 0 | DJ23: 0 | DK23: 0 | DL23: 0 | DM23: 0 | DN23: 0 | DO23: 0 | DP23: 0 | DQ23: 0 | DR23: 0 | DS23: 0 | DT23: 0 | DU23: 0 | DV23: 0 | DW23: 0
A25: Maagaasi import | N25: =N2/B2-1 -> -0.285985 | O25: =O2/C2-1 -> 0.040516759 | P25: =P2/D2-1 -> -0.037273894 | Q25: =Q2/E2-1 -> 0.048336957 | R25: =R2/F2-1 -> 0.28542162 | S25: =S2/G2-1 -> -0.041468319 | T25: =T2/H2-1 -> 0.090107171 | U25: =U2/I2-1 -> 0.12019619 | ... DV25: =DV2/DJ2-1 -> 0.21375239
A26: Siseriiklik ülekandeteenus | N26: =N9/B9-1 -> -0.28447389 | O26: =O9/C9-1 -> 0.0561343 | P26: =P9/D9-1 -> -0.035401255 | Q26: =Q9/E9-1 -> 0.070555862 | R26: =R9/F9-1 -> 0.27632236 | S26: =S9/G9-1 -> -0.032938071 | T26: =T9/H9-1 -> 0.089159648 | U26: =U9/I9-1 -> 0.12274518 | ... DV26: =DV9/DJ9-1 -> -0.21084391
A27: Mahuvaru muutus | N27: =N16/B16-1 -> 0.37775505 | O27: =O16/C16-1 -> 0.11795685 | P27: =P16/D16-1 -> 0.11351072 | Q27: =Q16/E16-1 -> -0.077872707 | R27: =R16/F16-1 -> -0.037609772 | S27: =S16/G16-1 -> -0.075834996 | T27: =T16/H16-1 -> -0.10422888 | U27: =U16/I16-1 -> -0.099974506 | ... DV27: =DV16/DJ16-1 -> 0.04706134

Sheet Quarterly
B1: Eesti gaasibilanss, MWh | C1: 2016-Q1 | D1: 2016-Q2 | E1: 2016-Q3 | F1: 2016-Q4 | G1: 2017-Q1 | H1: 2017-Q2 | I1: 2017-Q3 | J1: 2017-Q4 | K1: 2018-Q1 | L1: 2018-Q2 | M1: 2018-Q3 | N1: 2018-Q4 | O1: 2019-Q1 | P1: 2019-Q2 | Q1: 2019-Q3 | R1: 2019-Q4 | S1: 2020-Q1 | T1: 2020-Q2 | U1: 2020-Q3 | V1: 2020-Q4 | W1: 2021-Q1 | X1: 2021-Q2 | Y1: 2021-Q3 | Z1: 2021-Q4 | AA1: 2022-Q1 | AB1: 2022-Q2 | AC1: 2022-Q3 | AD1: 2022-Q4 | AE1: 2023-Q1 | AF1: 2023-Q2 | AG1: 2023-Q3 | AH1: 2023-Q4 | AI1: 2024-Q1 | AJ1: 2024-Q2 | AK1: 2024-Q3 | AL1: 2024-Q4 | AM1: 2025-Q1 | AN1: 2025-Q2 | AO1: 2025-Q3 | AP1: 2025-Q4 | AQ1: 2026-Q1 | AR1: 2026-Q2 | AS1: 2026-Q3
B2: Ülekandevõrku sisenenud gaas kokku | C2: =SUM(Monthly!B2:D2) -> 2329586.6 | D2: =SUM(Monthly!E2:G2) -> 863602.94 | E2: =SUM(Monthly!H2:J2) -> 569251.39 | F2: =SUM(Monthly!K2:M2) -> 1767068.2 | G2: =SUM(Monthly!N2:P2) -> 2033695.8 | H2: =SUM(Monthly!Q2:S2) -> 943904.75 | I2: =SUM(Monthly!T2:V2) -> 647527.71 | J2: =SUM(Monthly!W2:Y2) -> 1608681 | K2: =SUM(Monthly!Z2:AB2) -> 2257643.3 | L2: =SUM(Monthly!AC2:AE2) -> 800505.23 | M2: =SUM(Monthly!AF2:AH2) -> 595505.23 | N2: =SUM(Monthly!AI2:AK2) -> 1587382.9 | O2: =SUM(Monthly!AL2:AN2) -> 1919911.7 | P2: =SUM(Monthly!AO2:AQ2) -> 802828.38 | Q2: =SUM(Monthly!AR2:AT2) -> 639492.47 | R2: =SUM(Monthly!AU2:AW2) -> 1446108.3 | S2: =SUM(Monthly!AX2:AZ2) -> 4277137.4 | T2: =SUM(Monthly!BA2:BC2) -> 2704243 | U2: =SUM(Monthly!BD2:BF2) -> 1907334.8 | V2: =SUM(Monthly!BG2:BI2) -> 4089206.5 | W2: =SUM(Monthly!BJ2:BL2) -> 4607267.3 | X2: =SUM(Monthly!BM2:BO2) -> 2209980.6 | Y2: =SUM(Monthly!BP2:BR2) -> 1557308.4 | Z2: =SUM(Monthly!BS2:BU2) -> 2996644.8 | AA2: =SUM(Monthly!BV2:BX2) -> 3698582.2 | AB2: =SUM(Monthly!BY2:CA2) -> 2267597 | AC2: =SUM(Monthly!CB2:CD2) -> 2516688.3 | AD2: =SUM(Monthly!CE2:CG2) -> 3031345.4 | AE2: =SUM(Monthly!CH2:CJ2) -> 4342261.1 | AF2: =SUM(Monthly!CK2:CM2) -> 2778381.3 | AG2: =SUM(Monthly!CN2:CP2) -> 2189513.1 | AH2: =SUM(Monthly!CQ2:CS2) -> 1493562.1 | AI2: =SUM(Monthly!CT2:CV2) -> 1596002.6 | AJ2: =SUM(Monthly!CW2:CY2) -> 4376054.6 | AK2: =SUM(Monthly!CZ2:DB2) -> 2490483 | AL2: =SUM(Monthly!DC2:DE2) -> 2275802.4 | AM2: =SUM(Monthly!DF2:DH2) -> 4468381.4 | AN2: =SUM(Monthly!DI2:DK2) -> 2120707.6 | AO2: =SUM(Monthly!DL2:DN2) -> 3167707.1 | AP2: =SUM(Monthly!DO2:DQ2) -> 2325676.1 | AQ2: =SUM(Monthly!DR2:DT2) -> 5309340.9 | AR2: =SUM(Monthly!DU2:DW2) -> 3178863.6 | AS2: =SUM(Monthly!DX2:DZ2) -> 1416532.7
B3: Karksi GMJ | C3: =SUM(Monthly!B3:D3) -> 2329050.6 | D3: =SUM(Monthly!E3:G3) -> 706307.89 | E3: =SUM(Monthly!H3:J3) -> 243646.73 | F3: =SUM(Monthly!K3:M3) -> 204174.66 | G3: =SUM(Monthly!N3:P3) -> 260855.03 | H3: =SUM(Monthly!Q3:S3) -> 329345.28 | I3: =SUM(Monthly!T3:V3) -> 385909.02 | J3: =SUM(Monthly!W3:Y3) -> 590224.75 | K3: =SUM(Monthly!Z3:AB3) -> 738466.68 | L3: =SUM(Monthly!AC3:AE3) -> 172643.22 | M3: =SUM(Monthly!AF3:AH3) -> 949.76 | N3: =SUM(Monthly!AI3:AK3) -> 211600.33 | O3: =SUM(Monthly!AL3:AN3) -> 1155122.7 | P3: =SUM(Monthly!AO3:AQ3) -> 95412.581 | Q3: =SUM(Monthly!AR3:AT3) -> 33225.521 | R3: =SUM(Monthly!AU3:AW3) -> 1166121.6 | S3: =SUM(Monthly!AX3:AZ3) -> 3609293.5 | T3: =SUM(Monthly!BA3:BC3) -> 1719993.7 | U3: =SUM(Monthly!BD3:BF3) -> 1413185.5 | V3: =SUM(Monthly!BG3:BI3) -> 3358183.4 | W3: =SUM(Monthly!BJ3:BL3) -> 4446107.3 | X3: =SUM(Monthly!BM3:BO3) -> 1961605.4 | Y3: =SUM(Monthly!BP3:BR3) -> 1179500.9 | Z3: =SUM(Monthly!BS3:BU3) -> 2938356.2 | AA3: =SUM(Monthly!BV3:BX3) -> 2916715.7 | AB3: =SUM(Monthly!BY3:CA3) -> 2047799 | AC3: =SUM(Monthly!CB3:CD3) -> 2516633.2 | AD3: =SUM(Monthly!CE3:CG3) -> 3030986.3 | AE3: =SUM(Monthly!CH3:CJ3) -> 4286791.3 | AF3: =SUM(Monthly!CK3:CM3) -> 105400.01 | AG3: =SUM(Monthly!CN3:CP3) -> 103792.69 | AH3: =SUM(Monthly!CQ3:CS3) -> 1226709.8 | AI3: =SUM(Monthly!CT3:CV3) -> 1595578.6 | AJ3: =SUM(Monthly!CW3:CY3) -> 242961.9 | AK3: =SUM(Monthly!CZ3:DB3) -> 210420.45 | AL3: =SUM(Monthly!DC3:DE3) -> 1895122.1 | AM3: =SUM(Monthly!DF3:DH3) -> 4431213.6 | AN3: =SUM(Monthly!DI3:DK3) -> 1038309.4 | AO3: =SUM(Monthly!DL3:DN3) -> 1609748.9 | AP3: =SUM(Monthly!DO3:DQ3) -> 1429217.2 | AQ3: =SUM(Monthly!DR3:DT3) -> 4998265.6 | AR3: =SUM(Monthly!DU3:DW3) -> 1498903 | AS3: =SUM(Monthly!DX3:DZ3) -> 1021624.4
B4: Värska GMJ | C4: =SUM(Monthly!B4:D4) -> 0 | D4: =SUM(Monthly!E4:G4) -> 157166.61 | E4: =SUM(Monthly!H4:J4) -> 325553.96 | F4: =SUM(Monthly!K4:M4) -> 1562465.9 | G4: =SUM(Monthly!N4:P4) -> 1772357.7 | H4: =SUM(Monthly!Q4:S4) -> 614379.91 | I4: =SUM(Monthly!T4:V4) -> 261557.12 | J4: =SUM(Monthly!W4:Y4) -> 1018061.9 | K4: =SUM(Monthly!Z4:AB4) -> 1518634 | L4: =SUM(Monthly!AC4:AE4) -> 474688.33 | M4: =SUM(Monthly!AF4:AH4) -> 345176.43 | N4: =SUM(Monthly!AI4:AK4) -> 1375394.8 | O4: =SUM(Monthly!AL4:AN4) -> 764300.52 | P4: =SUM(Monthly!AO4:AQ4) -> 707293.03 | Q4: =SUM(Monthly!AR4:AT4) -> 606204.08 | R4: =SUM(Monthly!AU4:AW4) -> 279599.67 | S4: =SUM(Monthly!AX4:AZ4) -> 667419.26 | T4: =SUM(Monthly!BA4:BC4) -> 984068.04 | U4: =SUM(Monthly!BD4:BF4) -> 494090.74 | V4: =SUM(Monthly!BG4:BI4) -> 730640.66 | W4: =SUM(Monthly!BJ4:BL4) -> 154097.89 | X4: =SUM(Monthly!BM4:BO4) -> 242215.9 | Y4: =SUM(Monthly!BP4:BR4) -> 377724.11 | Z4: =SUM(Monthly!BS4:BU4) -> 2331.663 | AA4: =SUM(Monthly!BV4:BX4) -> 400710.13 | AB4: =SUM(Monthly!BY4:CA4) -> 0 | AC4: =SUM(Monthly!CB4:CD4) -> 0 | AD4: =SUM(Monthly!CE4:CG4) -> 0 | AE4: =SUM(Monthly!CH4:CJ4) -> 0 | AF4: =SUM(Monthly!CK4:CM4) -> 0 | AG4: =SUM(Monthly!CN4:CP4) -> 0 | AH4: =SUM(Monthly!CQ4:CS4) -> 0 | AI4: =SUM(Monthly!CT4:CV4) -> 0 | AJ4: =SUM(Monthly!CW4:CY4) -> 0 | AK4: =SUM(Monthly!CZ4:DB4) -> 0 | AL4: =SUM(Monthly!DC4:DE4) -> 0 | AM4: =SUM(Monthly!DF4:DH4) -> 0 | AN4: =SUM(Monthly!DI4:DK4) -> 0 | AO4: =SUM(Monthly!DL4:DN4) -> 0 | AP4: =SUM(Monthly!DO4:DQ4) -> 0 | AQ4: =SUM(Monthly!DR4:DT4) -> 0 | AR4: =SUM(Monthly!DU4:DW4) -> 0 | AS4: =SUM(Monthly!DX4:DZ4) -> 0
B5: Narva GMJ | C5: =SUM(Monthly!B5:D5) -> 0 | D5: =SUM(Monthly!E5:G5) -> 0 | E5: =SUM(Monthly!H5:J5) -> 0 | F5: =SUM(Monthly!K5:M5) -> 0 | G5: =SUM(Monthly!N5:P5) -> 0 | H5: =SUM(Monthly!Q5:S5) -> 0 | I5: =SUM(Monthly!T5:V5) -> 0 | J5: =SUM(Monthly!W5:Y5) -> 0 | K5: =SUM(Monthly!Z5:AB5) -> 0 | L5: =SUM(Monthly!AC5:AE5) -> 153060.47 | M5: =SUM(Monthly!AF5:AH5) -> 249335.79 | N5: =SUM(Monthly!AI5:AK5) -> 0 | O5: =SUM(Monthly!AL5:AN5) -> 0 | P5: =SUM(Monthly!AO5:AQ5) -> 0 | Q5: =SUM(Monthly!AR5:AT5) -> 0 | R5: =SUM(Monthly!AU5:AW5) -> 0 | S5: =SUM(Monthly!AX5:AZ5) -> 0 | T5: =SUM(Monthly!BA5:BC5) -> 0 | U5: =SUM(Monthly!BD5:BF5) -> 0 | V5: =SUM(Monthly!BG5:BI5) -> 0 | W5: =SUM(Monthly!BJ5:BL5) -> 0 | X5: =SUM(Monthly!BM5:BO5) -> 0 | Y5: =SUM(Monthly!BP5:BR5) -> 0 | Z5: =SUM(Monthly!BS5:BU5) -> 0 | AA5: =SUM(Monthly!BV5:BX5) -> 0 | AB5: =SUM(Monthly!BY5:CA5) -> 0 | AC5: =SUM(Monthly!CB5:CD5) -> 0 | AD5: =SUM(Monthly!CE5:CG5) -> 0 | AE5: =SUM(Monthly!CH5:CJ5) -> 0 | AF5: =SUM(Monthly!CK5:CM5) -> 0 | AG5: =SUM(Monthly!CN5:CP5) -> 0 | AH5: =SUM(Monthly!CQ5:CS5) -> 0 | AI5: =SUM(Monthly!CT5:CV5) -> 0 | AJ5: =SUM(Monthly!CW5:CY5) -> 0 | AK5: =SUM(Monthly!CZ5:DB5) -> 0 | AL5: =SUM(Monthly!DC5:DE5) -> 0 | AM5: =SUM(Monthly!DF5:DH5) -> 0 | AN5: =SUM(Monthly!DI5:DK5) -> 0 | AO5: =SUM(Monthly!DL5:DN5) -> 0 | AP5: =SUM(Monthly!DO5:DQ5) -> 0 | AQ5: =SUM(Monthly!DR5:DT5) -> 0 | AR5: =SUM(Monthly!DU5:DW5) -> 0 | AS5: =SUM(Monthly!DX5:DZ5) -> 0
B6: Misso GMJ | C6: =SUM(Monthly!B6:D6) -> 536.01459 | D6: =SUM(Monthly!E6:G6) -> 128.43534 | E6: =SUM(Monthly!H6:J6) -> 50.70266 | F6: =SUM(Monthly!K6:M6) -> 427.58697 | G6: =SUM(Monthly!N6:P6) -> 483.08645 | H6: =SUM(Monthly!Q6:S6) -> 179.563 | I6: =SUM(Monthly!T6:V6) -> 61.56154 | J6: =SUM(Monthly!W6:Y6) -> 394.28432 | K6: =SUM(Monthly!Z6:AB6) -> 542.63596 | L6: =SUM(Monthly!AC6:AE6) -> 113.209 | M6: =SUM(Monthly!AF6:AH6) -> 43.249 | N6: =SUM(Monthly!AI6:AK6) -> 387.766 | O6: =SUM(Monthly!AL6:AN6) -> 488.504 | P6: =SUM(Monthly!AO6:AQ6) -> 122.769 | Q6: =SUM(Monthly!AR6:AT6) -> 62.864 | R6: =SUM(Monthly!AU6:AW6) -> 387.038 | S6: =SUM(Monthly!AX6:AZ6) -> 424.612 | T6: =SUM(Monthly!BA6:BC6) -> 181.243 | U6: =SUM(Monthly!BD6:BF6) -> 58.624 | V6: =SUM(Monthly!BG6:BI6) -> 382.451 | W6: =SUM(Monthly!BJ6:BL6) -> 556.735 | X6: =SUM(Monthly!BM6:BO6) -> 169.798 | Y6: =SUM(Monthly!BP6:BR6) -> 83.399 | Z6: =SUM(Monthly!BS6:BU6) -> 425.442 | AA6: =SUM(Monthly!BV6:BX6) -> 485.247 | AB6: =SUM(Monthly!BY6:CA6) -> 171.152 | AC6: =SUM(Monthly!CB6:CD6) -> 55.04 | AD6: =SUM(Monthly!CE6:CG6) -> 359.115 | AE6: =SUM(Monthly!CH6:CJ6) -> 432.528 | AF6: =SUM(Monthly!CK6:CM6) -> 114.584 | AG6: =SUM(Monthly!CN6:CP6) -> 21.125 | AH6: =SUM(Monthly!CQ6:CS6) -> 341.751 | AI6: =SUM(Monthly!CT6:CV6) -> 423.983 | AJ6: =SUM(Monthly!CW6:CY6) -> 103.73 | AK6: =SUM(Monthly!CZ6:DB6) -> 16.518 | AL6: =SUM(Monthly!DC6:DE6) -> 280.247 | AM6: =SUM(Monthly!DF6:DH6) -> 361.85 | AN6: =SUM(Monthly!DI6:DK6) -> 123.809 | AO6: =SUM(Monthly!DL6:DN6) -> 25.127 | AP6: =SUM(Monthly!DO6:DQ6) -> 301.61 | AQ6: =SUM(Monthly!DR6:DT6) -> 453.088 | AR6: =SUM(Monthly!DU6:DW6) -> 106.329 | AS6: =SUM(Monthly!DX6:DZ6) -> 28.679
B7: Balticconnector | T7: 0 | U7: 0 | V7: 0 | W7: =SUM(Monthly!BJ7:BL7) -> 6505.325 | X7: =SUM(Monthly!BM7:BO7) -> 5989.49 | Y7: =SUM(Monthly!BP7:BR7) -> 0 | Z7: =SUM(Monthly!BS7:BU7) -> 55531.478 | AA7: =SUM(Monthly!BV7:BX7) -> 380671.09 | AB7: =SUM(Monthly!BY7:CA7) -> 219626.86 | AC7: =SUM(Monthly!CB7:CD7) -> 0 | AD7: =SUM(Monthly!CE7:CG7) -> 0 | AE7: =SUM(Monthly!CH7:CJ7) -> 55037.297 | AF7: =SUM(Monthly!CK7:CM7) -> 2672866.7 | AG7: =SUM(Monthly!CN7:CP7) -> 2085699.3 | AH7: =SUM(Monthly!CQ7:CS7) -> 266510.61 | AI7: =SUM(Monthly!CT7:CV7) -> 0 | AJ7: =SUM(Monthly!CW7:CY7) -> 4132989 | AK7: =SUM(Monthly!CZ7:DB7) -> 2280046.1 | AL7: =SUM(Monthly!DC7:DE7) -> 380400.08 | AM7: =SUM(Monthly!DF7:DH7) -> 36805.956 | AN7: =SUM(Monthly!DI7:DK7) -> 1082274.4 | AO7: =SUM(Monthly!DL7:DN7) -> 1557933.1 | AP7: =SUM(Monthly!DO7:DQ7) -> 896157.28 | AQ7: =SUM(Monthly!DR7:DT7) -> 310622.17 | AR7: =SUM(Monthly!DU7:DW7) -> 1679854.2 | AS7: =SUM(Monthly!DX7:DZ7) -> 394879.66
B8: Ülekandevõrgust väljunud gaas kokku | C8: =SUM(Monthly!B8:D8) -> 4249308.2 | D8: =SUM(Monthly!E8:G8) -> 4136415.3 | E8: =SUM(Monthly!H8:J8) -> 13659902 | F8: =SUM(Monthly!K8:M8) -> 2389953.9 | G8: =SUM(Monthly!N8:P8) -> 2046421.2 | H8: =SUM(Monthly!Q8:S8) -> 2093363 | I8: =SUM(Monthly!T8:V8) -> 8468131.8 | J8: =SUM(Monthly!W8:Y8) -> 5593555.6 | K8: =SUM(Monthly!Z8:AB8) -> 2937657.1 | L8: =SUM(Monthly!AC8:AE8) -> 1353379 | M8: =SUM(Monthly!AF8:AH8) -> 11523558 | N8: =SUM(Monthly!AI8:AK8) -> 4556319 | O8: =SUM(Monthly!AL8:AN8) -> 3143247.8 | P8: =SUM(Monthly!AO8:AQ8) -> 6374438.7 | Q8: =SUM(Monthly!AR8:AT8) -> 11233708 | R8: =SUM(Monthly!AU8:AW8) -> 3202018.6 | S8: =SUM(Monthly!AX8:AZ8) -> 4269054.7 | T8: =SUM(Monthly!BA8:BC8) -> 2719951.1 | U8: =SUM(Monthly!BD8:BF8) -> 1898753.6 | V8: =SUM(Monthly!BG8:BI8) -> 4073591.4 | W8: =SUM(Monthly!BJ8:BL8) -> 4618855.2 | X8: =SUM(Monthly!BM8:BO8) -> 2186476.3 | Y8: =SUM(Monthly!BP8:BR8) -> 1558804.8 | Z8: =SUM(Monthly!BS8:BU8) -> 2987370.6 | AA8: =SUM(Monthly!BV8:BX8) -> 3705689.8 | AB8: =SUM(Monthly!BY8:CA8) -> 2249926.4 | AC8: =SUM(Monthly!CB8:CD8) -> 2520709.6 | AD8: =SUM(Monthly!CE8:CG8) -> 3022103.8 | AE8: =SUM(Monthly!CH8:CJ8) -> 4339268.1 | AF8: =SUM(Monthly!CK8:CM8) -> 2775679.1 | AG8: =SUM(Monthly!CN8:CP8) -> 2177244.1 | AH8: =SUM(Monthly!CQ8:CS8) -> 1480439.4 | AI8: =SUM(Monthly!CT8:CV8) -> 1586265.4 | AJ8: =SUM(Monthly!CW8:CY8) -> 4376135.4 | AK8: =SUM(Monthly!CZ8:DB8) -> 2447033.2 | AL8: =SUM(Monthly!DC8:DE8) -> 2275008 | AM8: =SUM(Monthly!DF8:DH8) -> 4452747 | AN8: =SUM(Monthly!DI8:DK8) -> 2116986.3 | AO8: =SUM(Monthly!DL8:DN8) -> 3166656.8 | AP8: =SUM(Monthly!DO8:DQ8) -> 2312066.6 | AQ8: =SUM(Monthly!DR8:DT8) -> 5292665.7 | AR8: =SUM(Monthly!DU8:DW8) -> 3177124.5 | AS8: =SUM(Monthly!DX8:DZ8) -> 1417896.9
B9: Sisemaine ülekandeteenus | C9: =SUM(Monthly!B9:D9) -> 2320036.9 | D9: =SUM(Monthly!E9:G9) -> 854325.62 | E9: =SUM(Monthly!H9:J9) -> 570225.02 | F9: =SUM(Monthly!K9:M9) -> 1752111.1 | G9: =SUM(Monthly!N9:P9) -> 2036808.2 | H9: =SUM(Monthly!Q9:S9) -> 942913.92 | I9: =SUM(Monthly!T9:V9) -> 649590.74 | J9: =SUM(Monthly!W9:Y9) -> 1589657.7 | K9: =SUM(Monthly!Z9:AB9) -> 2256541.3 | L9: =SUM(Monthly!AC9:AE9) -> 803813.38 | M9: =SUM(Monthly!AF9:AH9) -> 588875.89 | N9: =SUM(Monthly!AI9:AK9) -> 1567172.6 | O9: =SUM(Monthly!AL9:AN9) -> 1917042.7 | P9: =SUM(Monthly!AO9:AQ9) -> 802569.54 | Q9: =SUM(Monthly!AR9:AT9) -> 637894.98 | R9: =SUM(Monthly!AU9:AW9) -> 1415714.9 | S9: =SUM(Monthly!AX9:AZ9) -> 1630719.9 | T9: =SUM(Monthly!BA9:BC9) -> 865880.28 | U9: =SUM(Monthly!BD9:BF9) -> 617293.86 | V9: =SUM(Monthly!BG9:BI9) -> 1366236.8 | W9: =SUM(Monthly!BJ9:BL9) -> 2032921.7 | X9: =SUM(Monthly!BM9:BO9) -> 845891.51 | Y9: =SUM(Monthly!BP9:BR9) -> 650373.99 | Z9: =SUM(Monthly!BS9:BU9) -> 1545376 | AA9: =SUM(Monthly!BV9:BX9) -> 1663490.7 | AB9: =SUM(Monthly!BY9:CA9) -> 703741.01 | AC9: =SUM(Monthly!CB9:CD9) -> 432829.07 | AD9: =SUM(Monthly!CE9:CG9) -> 976708.53 | AE9: =SUM(Monthly!CH9:CJ9) -> 1202606.5 | AF9: =SUM(Monthly!CK9:CM9) -> 570129.37 | AG9: =SUM(Monthly!CN9:CP9) -> 398210.9 | AH9: =SUM(Monthly!CQ9:CS9) -> 1264339.7 | AI9: =SUM(Monthly!CT9:CV9) -> 1586265.4 | AJ9: =SUM(Monthly!CW9:CY9) -> 642819.69 | AK9: =SUM(Monthly!CZ9:DB9) -> 383380.53 | AL9: =SUM(Monthly!DC9:DE9) -> 1108263.4 | AM9: =SUM(Monthly!DF9:DH9) -> 1270549.3 | AN9: =SUM(Monthly!DI9:DK9) -> 591260.15 | AO9: =SUM(Monthly!DL9:DN9) -> 423905.57 | AP9: =SUM(Monthly!DO9:DQ9) -> 1064420.7 | AQ9: =SUM(Monthly!DR9:DT9) -> 1762015 | AR9: =SUM(Monthly!DU9:DW9) -> 541418.04 | AS9: =SUM(Monthly!DX9:DZ9) -> 367825.38
B10: Eksport | S10: =SUM(Monthly!AX10:AZ10) -> 2638334.7 | T10: =SUM(Monthly!BA10:BC10) -> 1854070.8 | U10: =SUM(Monthly!BD10:BF10) -> 1281459.7 | V10: =SUM(Monthly!BG10:BI10) -> 2707354.6 | W10: =SUM(Monthly!BJ10:BL10) -> 2585933.5 | X10: =SUM(Monthly!BM10:BO10) -> 1340584.8 | Y10: =SUM(Monthly!BP10:BR10) -> 908430.8 | Z10: =SUM(Monthly!BS10:BU10) -> 1441994.7 | AA10: =SUM(Monthly!BV10:BX10) -> 2042199.1 | AB10: =SUM(Monthly!BY10:CA10) -> 1546185.4 | AC10: =SUM(Monthly!CB10:CD10) -> 2087880.5 | AD10: =SUM(Monthly!CE10:CG10) -> 2045395.2 | AE10: =SUM(Monthly!CH10:CJ10) -> 3136661.6 | AF10: =SUM(Monthly!CK10:CM10) -> 2205549.7 | AG10: =SUM(Monthly!CN10:CP10) -> 1779033.2 | AH10: =SUM(Monthly!CQ10:CS10) -> 216099.67 | AI10: =SUM(Monthly!CT10:CV10) -> 0 | AJ10: =SUM(Monthly!CW10:CY10) -> 3733315.8 | AK10: =SUM(Monthly!CZ10:DB10) -> 2063652.7 | AL10: =SUM(Monthly!DC10:DE10) -> 1166744.5 | AM10: =SUM(Monthly!DF10:DH10) -> 3182197.6 | AN10: =SUM(Monthly!DI10:DK10) -> 1525726.2 | AO10: =SUM(Monthly!DL10:DN10) -> 2742751.3 | AP10: =SUM(Monthly!DO10:DQ10) -> 1247645.9 | AQ10: =SUM(Monthly!DR10:DT10) -> 3530650.7 | AR10: =SUM(Monthly!DU10:DW10) -> 2635706.4 | AS10: =SUM(Monthly!DX10:DZ10) -> 1050071.5
B11: Karksi GMJ | S11: =SUM(Monthly!AX11:AZ11) -> 0 | T11: =SUM(Monthly!BA11:BC11) -> 10459.388 | U11: =SUM(Monthly!BD11:BF11) -> 0 | V11: =SUM(Monthly!BG11:BI11) -> 0 | W11: =SUM(Monthly!BJ11:BL11) -> 3110.292 | X11: =SUM(Monthly!BM11:BO11) -> 0 | Y11: =SUM(Monthly!BP11:BR11) -> 0 | Z11: =SUM(Monthly!BS11:BU11) -> 0 | AA11: =SUM(Monthly!BV11:BX11) -> 262401.28 | AB11: =SUM(Monthly!BY11:CA11) -> 62498.686 | AC11: =SUM(Monthly!CB11:CD11) -> 0 | AD11: =SUM(Monthly!CE11:CG11) -> 0 | AE11: =SUM(Monthly!CH11:CJ11) -> 36705.268 | AF11: =SUM(Monthly!CK11:CM11) -> 2120727.3 | AG11: =SUM(Monthly!CN11:CP11) -> 1701586.3 | AH11: =SUM(Monthly!CQ11:CS11) -> 216099.67 | AI11: =SUM(Monthly!CT11:CV11) -> 0 | AJ11: =SUM(Monthly!CW11:CY11) -> 3703007.8 | AK11: =SUM(Monthly!CZ11:DB11) -> 1881263.2 | AL11: =SUM(Monthly!DC11:DE11) -> 139014.21 | AM11: =SUM(Monthly!DF11:DH11) -> 0 | AN11: =SUM(Monthly!DI11:DK11) -> 759527.82 | AO11: =SUM(Monthly!DL11:DN11) -> 1426439.2 | AP11: =SUM(Monthly!DO11:DQ11) -> 490335.03 | AQ11: =SUM(Monthly!DR11:DT11) -> 100008.13 | AR11: =SUM(Monthly!DU11:DW11) -> 1438771.5 | AS11: =SUM(Monthly!DX11:DZ11) -> 217041.39
B12: Balticconnector | S12: =SUM(Monthly!AX12:AZ12) -> 2638334.7 | T12: =SUM(Monthly!BA12:BC12) -> 1843611.4 | U12: =SUM(Monthly!BD12:BF12) -> 1281459.7 | V12: =SUM(Monthly!BG12:BI12) -> 2707354.6 | W12: =SUM(Monthly!BJ12:BL12) -> 2582823.2 | X12: =SUM(Monthly!BM12:BO12) -> 1340584.8 | Y12: =SUM(Monthly!BP12:BR12) -> 908430.8 | Z12: =SUM(Monthly!BS12:BU12) -> 1441994.7 | AA12: =SUM(Monthly!BV12:BX12) -> 1779797.8 | AB12: =SUM(Monthly!BY12:CA12) -> 1483686.7 | AC12: =SUM(Monthly!CB12:CD12) -> 2087880.5 | AD12: =SUM(Monthly!CE12:CG12) -> 2045395.2 | AE12: =SUM(Monthly!CH12:CJ12) -> 3099956.4 | AF12: =SUM(Monthly!CK12:CM12) -> 84822.437 | AG12: =SUM(Monthly!CN12:CP12) -> 77446.89 | AH12: =SUM(Monthly!CQ12:CS12) -> 0 | AI12: =SUM(Monthly!CT12:CV12) -> 0 | AJ12: =SUM(Monthly!CW12:CY12) -> 30307.925 | AK12: =SUM(Monthly!CZ12:DB12) -> 182389.54 | AL12: =SUM(Monthly!DC12:DE12) -> 1027730.3 | AM12: =SUM(Monthly!DF12:DH12) -> 3182197.6 | AN12: =SUM(Monthly!DI12:DK12) -> 766198.36 | AO12: =SUM(Monthly!DL12:DN12) -> 1316312.1 | AP12: =SUM(Monthly!DO12:DQ12) -> 757310.9 | AQ12: =SUM(Monthly!DR12:DT12) -> 3430642.6 | AR12: =SUM(Monthly!DU12:DW12) -> 1196934.9 | AS12: =SUM(Monthly!DX12:DZ12) -> 833030.08
B13: Kogukaod ülekandevõrgus | C13: =SUM(Monthly!B13:D13) -> 5953.3587 | D13: =SUM(Monthly!E13:G13) -> 3023.2547 | E13: =SUM(Monthly!H13:J13) -> 3252.5723 | F13: =SUM(Monthly!K13:M13) -> 4634.5783 | G13: =SUM(Monthly!N13:P13) -> 3922.4343 | H13: =SUM(Monthly!Q13:S13) -> 3458.8621 | I13: =SUM(Monthly!T13:V13) -> 4662.2876 | J13: =SUM(Monthly!W13:Y13) -> 6458.3895 | K13: =SUM(Monthly!Z13:AB13) -> 5995.1627 | L13: =SUM(Monthly!AC13:AE13) -> 7294.1554 | M13: =SUM(Monthly!AF13:AH13) -> 3217.8843 | N13: =SUM(Monthly!AI13:AK13) -> 4717.4884 | O13: =SUM(Monthly!AL13:AN13) -> 8035.0263 | P13: =SUM(Monthly!AO13:AQ13) -> 8135.2923 | Q13: =SUM(Monthly!AR13:AT13) -> 5062.756 | R13: =SUM(Monthly!AU13:AW13) -> 5679.6294 | S13: =SUM(Monthly!AX13:AZ13) -> -982.09258 | T13: =SUM(Monthly!BA13:BC13) -> 1960.8055 | U13: =SUM(Monthly!BD13:BF13) -> 4796.7774 | V13: =SUM(Monthly!BG13:BI13) -> 1009.6703 | W13: =SUM(Monthly!BJ13:BL13) -> 5848.064 | X13: =SUM(Monthly!BM13:BO13) -> 5245.079 | Y13: =SUM(Monthly!BP13:BR13) -> 7931.7714 | Z13: =SUM(Monthly!BS13:BU13) -> 3257.7906 | AA13: =SUM(Monthly!BV13:BX13) -> 5117.8359 | AB13: =SUM(Monthly!BY13:CA13) -> 5049.7526 | AC13: =SUM(Monthly!CB13:CD13) -> 4383.59 | AD13: =SUM(Monthly!CE13:CG13) -> 8341.4422 | AE13: =SUM(Monthly!CH13:CJ13) -> 6636.107 | AF13: =SUM(Monthly!CK13:CM13) -> 7957.5642 | AG13: =SUM(Monthly!CN13:CP13) -> 7708.3772 | AH13: =SUM(Monthly!CQ13:CS13) -> 9950.2087 | AI13: =SUM(Monthly!CT13:CV13) -> 6212.6483 | AJ13: =SUM(Monthly!CW13:CY13) -> 9212.8075 | AK13: =SUM(Monthly!CZ13:DB13) -> 30435.697 | AL13: =SUM(Monthly!DC13:DE13) -> 2565.4191 | AM13: =SUM(Monthly!DF13:DH13) -> 13872.619 | AN13: =SUM(Monthly!DI13:DK13) -> 10245.254 | AO13: =SUM(Monthly!DL13:DN13) -> 4595.9603 | AP13: =SUM(Monthly!DO13:DQ13) -> 3779.9806 | AQ13: =SUM(Monthly!DR13:DT13) -> 15279.709 | AR13: =SUM(Monthly!DU13:DW13) -> 3151.6432 | AS13: =SUM(Monthly!DX13:DZ13) -> 9661.07
B14: Võrgust väljastatud tööde käigus | C14: =SUM(Monthly!B14:D14) -> 0 | D14: =SUM(Monthly!E14:G14) -> 202.43844 | E14: =SUM(Monthly!H14:J14) -> 429.3748 | F14: =SUM(Monthly!K14:M14) -> 1347.4781 | G14: =SUM(Monthly!N14:P14) -> 0 | H14: =SUM(Monthly!Q14:S14) -> 978.17927 | I14: =SUM(Monthly!T14:V14) -> 739.99346 | J14: =SUM(Monthly!W14:Y14) -> 945.8598 | K14: =SUM(Monthly!Z14:AB14) -> 0 | L14: =SUM(Monthly!AC14:AE14) -> 3238.28 | M14: =SUM(Monthly!AF14:AH14) -> 5605.1968 | N14: =SUM(Monthly!AI14:AK14) -> 0 | O14: =SUM(Monthly!AL14:AN14) -> 0 | P14: =SUM(Monthly!AO14:AQ14) -> 6743.6698 | Q14: =SUM(Monthly!AR14:AT14) -> 4752.9169 | R14: =SUM(Monthly!AU14:AW14) -> 2797.4318 | S14: =SUM(Monthly!AX14:AZ14) -> 0 | T14: =SUM(Monthly!BA14:BC14) -> 0 | U14: =SUM(Monthly!BD14:BF14) -> 545.90395 | V14: =SUM(Monthly!BG14:BI14) -> 98.78296 | W14: =SUM(Monthly!BJ14:BL14) -> 213.05588 | X14: =SUM(Monthly!BM14:BO14) -> 2135.2444 | Y14: =SUM(Monthly!BP14:BR14) -> 5794.8342 | Z14: =SUM(Monthly!BS14:BU14) -> 333.27615 | AA14: =SUM(Monthly!BV14:BX14) -> 263.92456 | AB14: =SUM(Monthly!BY14:CA14) -> 1672.1958 | AC14: =SUM(Monthly!CB14:CD14) -> 1096.3147 | AD14: =SUM(Monthly!CE14:CG14) -> 0 | AE14: =SUM(Monthly!CH14:CJ14) -> 53.2004 | AF14: =SUM(Monthly!CK14:CM14) -> 770.78117 | AG14: =SUM(Monthly!CN14:CP14) -> 5936.4675 | AH14: =SUM(Monthly!CQ14:CS14) -> 135.325 | AI14: =SUM(Monthly!CT14:CV14) -> 73.043 | AJ14: =SUM(Monthly!CW14:CY14) -> 1725.8652 | AK14: =SUM(Monthly!CZ14:DB14) -> 3522.8993 | AL14: =SUM(Monthly!DC14:DE14) -> 108.315 | AM14: =SUM(Monthly!DF14:DH14) -> 0 | AN14: =SUM(Monthly!DI14:DK14) -> 5753.335 | AO14: =SUM(Monthly!DL14:DN14) -> 1092.929 | AP14: =SUM(Monthly!DO14:DQ14) -> 94.933 | AQ14: =SUM(Monthly!DR14:DT14) -> 0 | AR14: =SUM(Monthly!DU14:DW14) -> 669.08 | AS14: =SUM(Monthly!DX14:DZ14) -> 4321.839
B15: Transiit | C15: =SUM(Monthly!B23:D23) -> 1929271.3 | D15: =SUM(Monthly!E23:G23) -> 3282089.7 | E15: =SUM(Monthly!H23:J23) -> 13089677 | F15: =SUM(Monthly!K23:M23) -> 637842.82 | G15: =SUM(Monthly!N23:P23) -> 9612.9416 | H15: =SUM(Monthly!Q23:S23) -> 1150449 | I15: =SUM(Monthly!T23:V23) -> 7818541 | J15: =SUM(Monthly!W23:Y23) -> 4003897.9 | K15: =SUM(Monthly!Z23:AB23) -> 681115.83 | L15: =SUM(Monthly!AC23:AE23) -> 549565.63 | M15: =SUM(Monthly!AF23:AH23) -> 10934682 | N15: =SUM(Monthly!AI23:AK23) -> 2989146.4 | O15: =SUM(Monthly!AL23:AN23) -> 1226205.1 | P15: =SUM(Monthly!AO23:AQ23) -> 5571869.1 | Q15: =SUM(Monthly!AR23:AT23) -> 10595813 | R15: =SUM(Monthly!AU23:AW23) -> 1786303.8 | S15: =SUM(Monthly!AX23:AZ23) -> 0 | T15: =SUM(Monthly!BA23:BC23) -> 0 | U15: =SUM(Monthly!BD23:BF23) -> 0 | V15: =SUM(Monthly!BG23:BI23) -> 0 | W15: =SUM(Monthly!BJ23:BL23) -> 0 | X15: =SUM(Monthly!BM23:BO23) -> 0 | Y15: =SUM(Monthly!BP23:BR23) -> 0 | Z15: =SUM(Monthly!BS23:BU23) -> 0 | AA15: =SUM(Monthly!BV23:BX23) -> 0 | AB15: =SUM(Monthly!BY23:CA23) -> 0 | AC15: =SUM(Monthly!CB23:CD23) -> 0 | AD15: =SUM(Monthly!CE23:CG23) -> 0 | AE15: =SUM(Monthly!CH23:CJ23) -> 0 | AF15: =SUM(Monthly!CK23:CM23) -> 0 | AG15: =SUM(Monthly!CN23:CP23) -> 0 | AH15: =SUM(Monthly!CQ23:CS23) -> 0 | AI15: =SUM(Monthly!CT23:CV23) -> 0 | AJ15: =SUM(Monthly!CW23:CY23) -> 0 | AK15: =SUM(Monthly!CZ23:DB23) -> 0 | AL15: =SUM(Monthly!DC23:DE23) -> 0 | AM15: =SUM(Monthly!DF23:DH23) -> 0 | AN15: =SUM(Monthly!DI23:DK23) -> 0 | AO15: =SUM(Monthly!DL23:DN23) -> 0 | AP15: =SUM(Monthly!DO23:DQ23) -> 0 | AQ15: =SUM(Monthly!DR23:DT23) -> 0 | AR15: =SUM(Monthly!DU15:DW15) -> 2482.5632 | AS15: =SUM(Monthly!DX15:DZ15) -> 5339.231
B19: Maagaasi import | G19: =G2/C2-1 -> -0.1270143 | H19: =H2/D2-1 -> 0.092984646 | I19: =I2/E2-1 -> 0.13750747 | J19: =J2/F2-1 -> -0.089632776 | K19: =K2/G2-1 -> 0.11011845 | L19: =L2/H2-1 -> -0.1519216 | M19: =M2/I2-1 -> -0.080340155 | N19: =N2/J2-1 -> -0.013239439 | ... AQ19: =AQ2/AM2-1 -> 0.18820227
B20: Siseriiklik ülekandeteenus | G20: =G9/C9-1 -> -0.12207938 | H20: =H9/D9-1 -> 0.10369384 | I20: =I9/E9-1 -> 0.13918317 | J20: =J9/F9-1 -> -0.092718648 | K20: =K9/G9-1 -> 0.10788108 | L20: =L9/H9-1 -> -0.14752199 | M20: =M9/I9-1 -> -0.093466309 | N20: =N9/J9-1 -> -0.014144623 | ... AQ20: =AQ9/AM9-1 -> 0.38681353
B21: Transiit | G21: =#REF!/#REF!-1 -> #REF! | H21: =#REF!/#REF!-1 -> #REF! | I21: =#REF!/#REF!-1 -> #REF! | J21: =#REF!/#REF!-1 -> #REF! | K21: =#REF!/#REF!-1 -> #REF! | L21: =#REF!/#REF!-1 -> #REF! | M21: =#REF!/#REF!-1 -> #REF! | N21: =#REF!/#REF!-1 -> #REF! | ... V21: =#REF!/#REF!-1 -> #REF!

Sheet Yearly
B1: Eesti gaasibilanss, MWh | C1: 2016 | D1: 2017 | E1: 2018 | F1: 2019 | G1: 2020 | H1: 2021 | I1: 2022 | J1: 2023 | K1: 2024 | L1: 2025
B2: Ülekandevõrku sisenenud gaas kokku | C2: =SUM(Monthly!B2:M2) -> 5529509.2 | D2: =SUM(Monthly!N2:Y2) -> 5233809.3 | E2: =SUM(Monthly!Z2:AK2) -> 5241036.7 | F2: =SUM(Monthly!AL2:AW2) -> 4808340.9 | G2: =SUM(Monthly!AX2:BI2) -> 12977922 | H2: =SUM(Monthly!BJ2:BU2) -> 11371201 | I2: =SUM(Monthly!BV2:CG2) -> 11514213 | J2: =SUM(Monthly!CH2:CS2) -> 10803718 | K2: =SUM(Monthly!CT2:DE2) -> 10738343 | L2: =SUM(Monthly!DF2:DQ2) -> 12082472
B3: Karksi GMJ | C3: =SUM(Monthly!B3:M3) -> 3483179.9 | D3: =SUM(Monthly!N3:Y3) -> 1566334.1 | E3: =SUM(Monthly!Z3:AK3) -> 1123660 | F3: =SUM(Monthly!AL3:AW3) -> 2449882.4 | G3: =SUM(Monthly!AX3:BI3) -> 10100656 | H3: =SUM(Monthly!BJ3:BU3) -> 10525570 | I3: =SUM(Monthly!BV3:CG3) -> 10512134 | J3: =SUM(Monthly!CH3:CS3) -> 5722693.8 | K3: =SUM(Monthly!CT3:DE3) -> 3944083.1 | L3: =SUM(Monthly!DF3:DQ3) -> 8508489
B4: Värska GMJ | C4: =SUM(Monthly!B4:M4) -> 2045186.5 | D4: =SUM(Monthly!N4:Y4) -> 3666356.7 | E4: =SUM(Monthly!Z4:AK4) -> 3713893.6 | F4: =SUM(Monthly!AL4:AW4) -> 2357397.3 | G4: =SUM(Monthly!AX4:BI4) -> 2876218.7 | H4: =SUM(Monthly!BJ4:BU4) -> 776369.57 | I4: =SUM(Monthly!BV4:CG4) -> 400710.13 | J4: =SUM(Monthly!CH4:CS4) -> 0 | K4: =SUM(Monthly!CT4:DE4) -> 0 | L4: =SUM(Monthly!DF4:DQ4) -> 0
B5: Narva GMJ | C5: =SUM(Monthly!B5:M5) -> 0 | D5: =SUM(Monthly!N5:Y5) -> 0 | E5: =SUM(Monthly!Z5:AK5) -> 402396.26 | F5: =SUM(Monthly!AL5:AW5) -> 0 | G5: =SUM(Monthly!AX5:BI5) -> 0 | H5: =SUM(Monthly!BJ5:BU5) -> 0 | I5: =SUM(Monthly!BV5:CG5) -> 0 | J5: =SUM(Monthly!CH5:CS5) -> 0 | K5: =SUM(Monthly!CT5:DE5) -> 0 | L5: =SUM(Monthly!DF5:DQ5) -> 0
B6: Misso GMJ | C6: =SUM(Monthly!B6:M6) -> 1142.7396 | D6: =SUM(Monthly!N6:Y6) -> 1118.4953 | E6: =SUM(Monthly!Z6:AK6) -> 1086.86 | F6: =SUM(Monthly!AL6:AW6) -> 1061.175 | G6: =SUM(Monthly!AX6:BI6) -> 1046.93 | H6: =SUM(Monthly!BJ6:BU6) -> 1235.374 | I6: =SUM(Monthly!BV6:CG6) -> 1070.554 | J6: =SUM(Monthly!CH6:CS6) -> 909.988 | K6: =SUM(Monthly!CT6:DE6) -> 824.478 | L6: =SUM(Monthly!DF6:DQ6) -> 812.396
B7: Balticconnector | C7: 0 | D7: 0 | E7: 0 | F7: 0 | G7: =SUM(Monthly!AX7:BI7) -> 0 | H7: =SUM(Monthly!BJ7:BU7) -> 68026.293 | I7: =SUM(Monthly!BV7:CG7) -> 600297.95 | J7: =SUM(Monthly!CH7:CS7) -> 5080113.9 | K7: =SUM(Monthly!CT7:DE7) -> 6793435.2 | L7: =SUM(Monthly!DF7:DQ7) -> 3573170.8
